BEGIN:VCALENDAR
VERSION:2.0
PRODID:-//RCCG Bethel Assembly Oshawa - ECPv6.15.16//NONSGML v1.0//EN
CALSCALE:GREGORIAN
METHOD:PUBLISH
X-ORIGINAL-URL:https://www.rccgbethelassembly.org
X-WR-CALDESC:Events for RCCG Bethel Assembly Oshawa
REFRESH-INTERVAL;VALUE=DURATION:PT1H
X-Robots-Tag:noindex
X-PUBLISHED-TTL:PT1H
BEGIN:VTIMEZONE
TZID:America/Toronto
BEGIN:DAYLIGHT
TZOFFSETFROM:-0500
TZOFFSETTO:-0400
TZNAME:EDT
DTSTART:20250309T070000
END:DAYLIGHT
BEGIN:STANDARD
TZOFFSETFROM:-0400
TZOFFSETTO:-0500
TZNAME:EST
DTSTART:20251102T060000
END:STANDARD
BEGIN:DAYLIGHT
TZOFFSETFROM:-0500
TZOFFSETTO:-0400
TZNAME:EDT
DTSTART:20260308T070000
END:DAYLIGHT
BEGIN:STANDARD
TZOFFSETFROM:-0400
TZOFFSETTO:-0500
TZNAME:EST
DTSTART:20261101T060000
END:STANDARD
BEGIN:DAYLIGHT
TZOFFSETFROM:-0500
TZOFFSETTO:-0400
TZNAME:EDT
DTSTART:20270314T070000
END:DAYLIGHT
BEGIN:STANDARD
TZOFFSETFROM:-0400
TZOFFSETTO:-0500
TZNAME:EST
DTSTART:20271107T060000
END:STANDARD
END:VTIMEZONE
BEGIN:VEVENT
DTSTART;TZID=America/Toronto:20260607T100000
DTEND;TZID=America/Toronto:20260607T120000
DTSTAMP:20260423T200311
CREATED:20250429T044300Z
LAST-MODIFIED:20251216T232814Z
UID:10002879-1780826400-1780833600@www.rccgbethelassembly.org
SUMMARY:Thanksgiving Sunday
DESCRIPTION:
URL:https://www.rccgbethelassembly.org/event/thanksgiving-sunday/2026-06-07/
LOCATION:Church Auditorium\, 32 Wilson Rd North\, Oshawa\, Ontario\, L1G 6C8\, Canada
ATTACH;FMTTYPE=image/png:https://www.rccgbethelassembly.org/wp-content/uploads/2025/04/Thanksgiving-scaled.png
END:VEVENT
BEGIN:VEVENT
DTSTART;TZID=America/Toronto:20260613T080000
DTEND;TZID=America/Toronto:20260613T090000
DTSTAMP:20260423T200311
CREATED:20250429T054844Z
LAST-MODIFIED:20251216T233845Z
UID:10002931-1781337600-1781341200@www.rccgbethelassembly.org
SUMMARY:Bethel Hour
DESCRIPTION:
URL:https://www.rccgbethelassembly.org/event/bethel-hour/2026-06-13/
LOCATION:Church Auditorium\, 32 Wilson Rd North\, Oshawa\, Ontario\, L1G 6C8\, Canada
ATTACH;FMTTYPE=image/png:https://www.rccgbethelassembly.org/wp-content/uploads/2025/04/Bethel-Hour.png
END:VEVENT
BEGIN:VEVENT
DTSTART;TZID=America/Toronto:20260614T100000
DTEND;TZID=America/Toronto:20260614T120000
DTSTAMP:20260423T200311
CREATED:20260207T200053Z
LAST-MODIFIED:20260207T200054Z
UID:10003094-1781431200-1781438400@www.rccgbethelassembly.org
SUMMARY:Sunday Service
DESCRIPTION:
URL:https://www.rccgbethelassembly.org/event/sunday-service-3/2026-06-14/
LOCATION:Church Auditorium\, 32 Wilson Rd North\, Oshawa\, Ontario\, L1G 6C8\, Canada
ATTACH;FMTTYPE=image/png:https://www.rccgbethelassembly.org/wp-content/uploads/2025/04/Sunday-Service.png
END:VEVENT
BEGIN:VEVENT
DTSTART;TZID=America/Toronto:20260621T100000
DTEND;TZID=America/Toronto:20260621T120000
DTSTAMP:20260423T200311
CREATED:20260207T200510Z
LAST-MODIFIED:20260207T203209Z
UID:10003104-1782036000-1782043200@www.rccgbethelassembly.org
SUMMARY:Impartation and Miracle Service
DESCRIPTION:
URL:https://www.rccgbethelassembly.org/event/sunday-service-4/2026-06-21/
LOCATION:Church Auditorium\, 32 Wilson Rd North\, Oshawa\, Ontario\, L1G 6C8\, Canada
ATTACH;FMTTYPE=image/jpeg:https://www.rccgbethelassembly.org/wp-content/uploads/2026/02/IMPARTATION-MIRACLE-SERVICE-scaled.jpg
END:VEVENT
BEGIN:VEVENT
DTSTART;TZID=America/Toronto:20260626T220000
DTEND;TZID=America/Toronto:20260626T220000
DTSTAMP:20260423T200311
CREATED:20260207T212018Z
LAST-MODIFIED:20260207T212020Z
UID:10003146-1782511200-1782511200@www.rccgbethelassembly.org
SUMMARY:Vigil
DESCRIPTION:
URL:https://www.rccgbethelassembly.org/event/vigil-2-2/2026-06-26/
LOCATION:Church Auditorium\, 32 Wilson Rd North\, Oshawa\, Ontario\, L1G 6C8\, Canada
ATTACH;FMTTYPE=image/jpeg:https://www.rccgbethelassembly.org/wp-content/uploads/2026/02/VIGIL-SERVICE-scaled.jpg
END:VEVENT
BEGIN:VEVENT
DTSTART;TZID=America/Toronto:20260628T100000
DTEND;TZID=America/Toronto:20260628T120000
DTSTAMP:20260423T200311
CREATED:20260207T195521Z
LAST-MODIFIED:20260207T202448Z
UID:10002983-1782640800-1782648000@www.rccgbethelassembly.org
SUMMARY:Sunday Service
DESCRIPTION:
URL:https://www.rccgbethelassembly.org/event/sunday-service-2/2026-06-28/
LOCATION:Church Auditorium\, 32 Wilson Rd North\, Oshawa\, Ontario\, L1G 6C8\, Canada
ATTACH;FMTTYPE=image/png:https://www.rccgbethelassembly.org/wp-content/uploads/2025/04/Sunday-Service.png
END:VEVENT
BEGIN:VEVENT
DTSTART;TZID=America/Toronto:20260701T190000
DTEND;TZID=America/Toronto:20260701T203000
DTSTAMP:20260423T200311
CREATED:20250429T060059Z
LAST-MODIFIED:20260207T204753Z
UID:10002920-1782932400-1782937800@www.rccgbethelassembly.org
SUMMARY:Bible Study
DESCRIPTION:
URL:https://www.rccgbethelassembly.org/event/bible-study/2026-07-01/
LOCATION:Church Auditorium\, 32 Wilson Rd North\, Oshawa\, Ontario\, L1G 6C8\, Canada
ATTACH;FMTTYPE=image/jpeg:https://www.rccgbethelassembly.org/wp-content/uploads/2026/02/BIBLE-STUDY-2026-scaled.jpg
END:VEVENT
BEGIN:VEVENT
DTSTART;TZID=America/Toronto:20260705T100000
DTEND;TZID=America/Toronto:20260705T120000
DTSTAMP:20260423T200311
CREATED:20250429T044300Z
LAST-MODIFIED:20251216T232814Z
UID:10002880-1783245600-1783252800@www.rccgbethelassembly.org
SUMMARY:Thanksgiving Sunday
DESCRIPTION:
URL:https://www.rccgbethelassembly.org/event/thanksgiving-sunday/2026-07-05/
LOCATION:Church Auditorium\, 32 Wilson Rd North\, Oshawa\, Ontario\, L1G 6C8\, Canada
ATTACH;FMTTYPE=image/png:https://www.rccgbethelassembly.org/wp-content/uploads/2025/04/Thanksgiving-scaled.png
END:VEVENT
BEGIN:VEVENT
DTSTART;TZID=America/Toronto:20260711T080000
DTEND;TZID=America/Toronto:20260711T090000
DTSTAMP:20260423T200311
CREATED:20250429T054844Z
LAST-MODIFIED:20251216T233845Z
UID:10002932-1783756800-1783760400@www.rccgbethelassembly.org
SUMMARY:Bethel Hour
DESCRIPTION:
URL:https://www.rccgbethelassembly.org/event/bethel-hour/2026-07-11/
LOCATION:Church Auditorium\, 32 Wilson Rd North\, Oshawa\, Ontario\, L1G 6C8\, Canada
ATTACH;FMTTYPE=image/png:https://www.rccgbethelassembly.org/wp-content/uploads/2025/04/Bethel-Hour.png
END:VEVENT
BEGIN:VEVENT
DTSTART;TZID=America/Toronto:20260712T100000
DTEND;TZID=America/Toronto:20260712T120000
DTSTAMP:20260423T200311
CREATED:20260207T200053Z
LAST-MODIFIED:20260207T200054Z
UID:10003095-1783850400-1783857600@www.rccgbethelassembly.org
SUMMARY:Sunday Service
DESCRIPTION:
URL:https://www.rccgbethelassembly.org/event/sunday-service-3/2026-07-12/
LOCATION:Church Auditorium\, 32 Wilson Rd North\, Oshawa\, Ontario\, L1G 6C8\, Canada
ATTACH;FMTTYPE=image/png:https://www.rccgbethelassembly.org/wp-content/uploads/2025/04/Sunday-Service.png
END:VEVENT
BEGIN:VEVENT
DTSTART;TZID=America/Toronto:20260719T100000
DTEND;TZID=America/Toronto:20260719T120000
DTSTAMP:20260423T200311
CREATED:20260207T200510Z
LAST-MODIFIED:20260207T203209Z
UID:10003105-1784455200-1784462400@www.rccgbethelassembly.org
SUMMARY:Impartation and Miracle Service
DESCRIPTION:
URL:https://www.rccgbethelassembly.org/event/sunday-service-4/2026-07-19/
LOCATION:Church Auditorium\, 32 Wilson Rd North\, Oshawa\, Ontario\, L1G 6C8\, Canada
ATTACH;FMTTYPE=image/jpeg:https://www.rccgbethelassembly.org/wp-content/uploads/2026/02/IMPARTATION-MIRACLE-SERVICE-scaled.jpg
END:VEVENT
BEGIN:VEVENT
DTSTART;TZID=America/Toronto:20260726T100000
DTEND;TZID=America/Toronto:20260726T120000
DTSTAMP:20260423T200311
CREATED:20260207T195521Z
LAST-MODIFIED:20260207T202448Z
UID:10002987-1785060000-1785067200@www.rccgbethelassembly.org
SUMMARY:Sunday Service
DESCRIPTION:
URL:https://www.rccgbethelassembly.org/event/sunday-service-2/2026-07-26/
LOCATION:Church Auditorium\, 32 Wilson Rd North\, Oshawa\, Ontario\, L1G 6C8\, Canada
ATTACH;FMTTYPE=image/png:https://www.rccgbethelassembly.org/wp-content/uploads/2025/04/Sunday-Service.png
END:VEVENT
BEGIN:VEVENT
DTSTART;TZID=America/Toronto:20260731T220000
DTEND;TZID=America/Toronto:20260731T220000
DTSTAMP:20260423T200311
CREATED:20260207T212018Z
LAST-MODIFIED:20260207T212020Z
UID:10003147-1785535200-1785535200@www.rccgbethelassembly.org
SUMMARY:Vigil
DESCRIPTION:
URL:https://www.rccgbethelassembly.org/event/vigil-2-2/2026-07-31/
LOCATION:Church Auditorium\, 32 Wilson Rd North\, Oshawa\, Ontario\, L1G 6C8\, Canada
ATTACH;FMTTYPE=image/jpeg:https://www.rccgbethelassembly.org/wp-content/uploads/2026/02/VIGIL-SERVICE-scaled.jpg
END:VEVENT
BEGIN:VEVENT
DTSTART;TZID=America/Toronto:20260802T100000
DTEND;TZID=America/Toronto:20260802T120000
DTSTAMP:20260423T200311
CREATED:20250429T044300Z
LAST-MODIFIED:20251216T232814Z
UID:10002881-1785664800-1785672000@www.rccgbethelassembly.org
SUMMARY:Thanksgiving Sunday
DESCRIPTION:
URL:https://www.rccgbethelassembly.org/event/thanksgiving-sunday/2026-08-02/
LOCATION:Church Auditorium\, 32 Wilson Rd North\, Oshawa\, Ontario\, L1G 6C8\, Canada
ATTACH;FMTTYPE=image/png:https://www.rccgbethelassembly.org/wp-content/uploads/2025/04/Thanksgiving-scaled.png
END:VEVENT
BEGIN:VEVENT
DTSTART;TZID=America/Toronto:20260805T190000
DTEND;TZID=America/Toronto:20260805T203000
DTSTAMP:20260423T200311
CREATED:20250429T060059Z
LAST-MODIFIED:20260207T204753Z
UID:10002921-1785956400-1785961800@www.rccgbethelassembly.org
SUMMARY:Bible Study
DESCRIPTION:
URL:https://www.rccgbethelassembly.org/event/bible-study/2026-08-05/
LOCATION:Church Auditorium\, 32 Wilson Rd North\, Oshawa\, Ontario\, L1G 6C8\, Canada
ATTACH;FMTTYPE=image/jpeg:https://www.rccgbethelassembly.org/wp-content/uploads/2026/02/BIBLE-STUDY-2026-scaled.jpg
END:VEVENT
BEGIN:VEVENT
DTSTART;TZID=America/Toronto:20260808T080000
DTEND;TZID=America/Toronto:20260808T090000
DTSTAMP:20260423T200311
CREATED:20250429T054844Z
LAST-MODIFIED:20251216T233845Z
UID:10002933-1786176000-1786179600@www.rccgbethelassembly.org
SUMMARY:Bethel Hour
DESCRIPTION:
URL:https://www.rccgbethelassembly.org/event/bethel-hour/2026-08-08/
LOCATION:Church Auditorium\, 32 Wilson Rd North\, Oshawa\, Ontario\, L1G 6C8\, Canada
ATTACH;FMTTYPE=image/png:https://www.rccgbethelassembly.org/wp-content/uploads/2025/04/Bethel-Hour.png
END:VEVENT
BEGIN:VEVENT
DTSTART;TZID=America/Toronto:20260809T100000
DTEND;TZID=America/Toronto:20260809T120000
DTSTAMP:20260423T200311
CREATED:20260207T200053Z
LAST-MODIFIED:20260207T200054Z
UID:10003096-1786269600-1786276800@www.rccgbethelassembly.org
SUMMARY:Sunday Service
DESCRIPTION:
URL:https://www.rccgbethelassembly.org/event/sunday-service-3/2026-08-09/
LOCATION:Church Auditorium\, 32 Wilson Rd North\, Oshawa\, Ontario\, L1G 6C8\, Canada
ATTACH;FMTTYPE=image/png:https://www.rccgbethelassembly.org/wp-content/uploads/2025/04/Sunday-Service.png
END:VEVENT
BEGIN:VEVENT
DTSTART;TZID=America/Toronto:20260816T100000
DTEND;TZID=America/Toronto:20260816T120000
DTSTAMP:20260423T200311
CREATED:20260207T200510Z
LAST-MODIFIED:20260207T203209Z
UID:10003106-1786874400-1786881600@www.rccgbethelassembly.org
SUMMARY:Impartation and Miracle Service
DESCRIPTION:
URL:https://www.rccgbethelassembly.org/event/sunday-service-4/2026-08-16/
LOCATION:Church Auditorium\, 32 Wilson Rd North\, Oshawa\, Ontario\, L1G 6C8\, Canada
ATTACH;FMTTYPE=image/jpeg:https://www.rccgbethelassembly.org/wp-content/uploads/2026/02/IMPARTATION-MIRACLE-SERVICE-scaled.jpg
END:VEVENT
BEGIN:VEVENT
DTSTART;TZID=America/Toronto:20260823T100000
DTEND;TZID=America/Toronto:20260823T120000
DTSTAMP:20260423T200311
CREATED:20260207T195521Z
LAST-MODIFIED:20260207T202448Z
UID:10002991-1787479200-1787486400@www.rccgbethelassembly.org
SUMMARY:Sunday Service
DESCRIPTION:
URL:https://www.rccgbethelassembly.org/event/sunday-service-2/2026-08-23/
LOCATION:Church Auditorium\, 32 Wilson Rd North\, Oshawa\, Ontario\, L1G 6C8\, Canada
ATTACH;FMTTYPE=image/png:https://www.rccgbethelassembly.org/wp-content/uploads/2025/04/Sunday-Service.png
END:VEVENT
BEGIN:VEVENT
DTSTART;TZID=America/Toronto:20260828T220000
DTEND;TZID=America/Toronto:20260828T220000
DTSTAMP:20260423T200311
CREATED:20260207T212018Z
LAST-MODIFIED:20260207T212020Z
UID:10003148-1787954400-1787954400@www.rccgbethelassembly.org
SUMMARY:Vigil
DESCRIPTION:
URL:https://www.rccgbethelassembly.org/event/vigil-2-2/2026-08-28/
LOCATION:Church Auditorium\, 32 Wilson Rd North\, Oshawa\, Ontario\, L1G 6C8\, Canada
ATTACH;FMTTYPE=image/jpeg:https://www.rccgbethelassembly.org/wp-content/uploads/2026/02/VIGIL-SERVICE-scaled.jpg
END:VEVENT
BEGIN:VEVENT
DTSTART;TZID=America/Toronto:20260830T100000
DTEND;TZID=America/Toronto:20260830T120000
DTSTAMP:20260423T200311
CREATED:20260207T204500Z
LAST-MODIFIED:20260207T204501Z
UID:10003118-1788084000-1788091200@www.rccgbethelassembly.org
SUMMARY:All Nations Praise Sunday
DESCRIPTION:
URL:https://www.rccgbethelassembly.org/event/sunday-service-5/2026-08-30/
LOCATION:Church Auditorium\, 32 Wilson Rd North\, Oshawa\, Ontario\, L1G 6C8\, Canada
ATTACH;FMTTYPE=image/jpeg:https://www.rccgbethelassembly.org/wp-content/uploads/2025/04/All-Nations-scaled.jpg
END:VEVENT
BEGIN:VEVENT
DTSTART;TZID=America/Toronto:20260902T190000
DTEND;TZID=America/Toronto:20260902T203000
DTSTAMP:20260423T200311
CREATED:20250429T060059Z
LAST-MODIFIED:20260207T204753Z
UID:10002922-1788375600-1788381000@www.rccgbethelassembly.org
SUMMARY:Bible Study
DESCRIPTION:
URL:https://www.rccgbethelassembly.org/event/bible-study/2026-09-02/
LOCATION:Church Auditorium\, 32 Wilson Rd North\, Oshawa\, Ontario\, L1G 6C8\, Canada
ATTACH;FMTTYPE=image/jpeg:https://www.rccgbethelassembly.org/wp-content/uploads/2026/02/BIBLE-STUDY-2026-scaled.jpg
END:VEVENT
BEGIN:VEVENT
DTSTART;TZID=America/Toronto:20260906T100000
DTEND;TZID=America/Toronto:20260906T120000
DTSTAMP:20260423T200311
CREATED:20250429T044300Z
LAST-MODIFIED:20251216T232814Z
UID:10002882-1788688800-1788696000@www.rccgbethelassembly.org
SUMMARY:Thanksgiving Sunday
DESCRIPTION:
URL:https://www.rccgbethelassembly.org/event/thanksgiving-sunday/2026-09-06/
LOCATION:Church Auditorium\, 32 Wilson Rd North\, Oshawa\, Ontario\, L1G 6C8\, Canada
ATTACH;FMTTYPE=image/png:https://www.rccgbethelassembly.org/wp-content/uploads/2025/04/Thanksgiving-scaled.png
END:VEVENT
BEGIN:VEVENT
DTSTART;TZID=America/Toronto:20260912T080000
DTEND;TZID=America/Toronto:20260912T090000
DTSTAMP:20260423T200311
CREATED:20250429T054844Z
LAST-MODIFIED:20251216T233845Z
UID:10002934-1789200000-1789203600@www.rccgbethelassembly.org
SUMMARY:Bethel Hour
DESCRIPTION:
URL:https://www.rccgbethelassembly.org/event/bethel-hour/2026-09-12/
LOCATION:Church Auditorium\, 32 Wilson Rd North\, Oshawa\, Ontario\, L1G 6C8\, Canada
ATTACH;FMTTYPE=image/png:https://www.rccgbethelassembly.org/wp-content/uploads/2025/04/Bethel-Hour.png
END:VEVENT
BEGIN:VEVENT
DTSTART;TZID=America/Toronto:20260913T100000
DTEND;TZID=America/Toronto:20260913T120000
DTSTAMP:20260423T200311
CREATED:20260207T200053Z
LAST-MODIFIED:20260207T200054Z
UID:10003097-1789293600-1789300800@www.rccgbethelassembly.org
SUMMARY:Sunday Service
DESCRIPTION:
URL:https://www.rccgbethelassembly.org/event/sunday-service-3/2026-09-13/
LOCATION:Church Auditorium\, 32 Wilson Rd North\, Oshawa\, Ontario\, L1G 6C8\, Canada
ATTACH;FMTTYPE=image/png:https://www.rccgbethelassembly.org/wp-content/uploads/2025/04/Sunday-Service.png
END:VEVENT
BEGIN:VEVENT
DTSTART;TZID=America/Toronto:20260920T100000
DTEND;TZID=America/Toronto:20260920T120000
DTSTAMP:20260423T200311
CREATED:20260207T200510Z
LAST-MODIFIED:20260207T203209Z
UID:10003107-1789898400-1789905600@www.rccgbethelassembly.org
SUMMARY:Impartation and Miracle Service
DESCRIPTION:
URL:https://www.rccgbethelassembly.org/event/sunday-service-4/2026-09-20/
LOCATION:Church Auditorium\, 32 Wilson Rd North\, Oshawa\, Ontario\, L1G 6C8\, Canada
ATTACH;FMTTYPE=image/jpeg:https://www.rccgbethelassembly.org/wp-content/uploads/2026/02/IMPARTATION-MIRACLE-SERVICE-scaled.jpg
END:VEVENT
BEGIN:VEVENT
DTSTART;TZID=America/Toronto:20260925T220000
DTEND;TZID=America/Toronto:20260925T220000
DTSTAMP:20260423T200311
CREATED:20260207T212018Z
LAST-MODIFIED:20260207T212020Z
UID:10003149-1790373600-1790373600@www.rccgbethelassembly.org
SUMMARY:Vigil
DESCRIPTION:
URL:https://www.rccgbethelassembly.org/event/vigil-2-2/2026-09-25/
LOCATION:Church Auditorium\, 32 Wilson Rd North\, Oshawa\, Ontario\, L1G 6C8\, Canada
ATTACH;FMTTYPE=image/jpeg:https://www.rccgbethelassembly.org/wp-content/uploads/2026/02/VIGIL-SERVICE-scaled.jpg
END:VEVENT
BEGIN:VEVENT
DTSTART;TZID=America/Toronto:20260927T100000
DTEND;TZID=America/Toronto:20260927T120000
DTSTAMP:20260423T200311
CREATED:20260207T195521Z
LAST-MODIFIED:20260207T202448Z
UID:10002996-1790503200-1790510400@www.rccgbethelassembly.org
SUMMARY:Sunday Service
DESCRIPTION:
URL:https://www.rccgbethelassembly.org/event/sunday-service-2/2026-09-27/
LOCATION:Church Auditorium\, 32 Wilson Rd North\, Oshawa\, Ontario\, L1G 6C8\, Canada
ATTACH;FMTTYPE=image/png:https://www.rccgbethelassembly.org/wp-content/uploads/2025/04/Sunday-Service.png
END:VEVENT
BEGIN:VEVENT
DTSTART;TZID=America/Toronto:20261004T100000
DTEND;TZID=America/Toronto:20261004T120000
DTSTAMP:20260423T200311
CREATED:20250429T044300Z
LAST-MODIFIED:20251216T232814Z
UID:10002883-1791108000-1791115200@www.rccgbethelassembly.org
SUMMARY:Thanksgiving Sunday
DESCRIPTION:
URL:https://www.rccgbethelassembly.org/event/thanksgiving-sunday/2026-10-04/
LOCATION:Church Auditorium\, 32 Wilson Rd North\, Oshawa\, Ontario\, L1G 6C8\, Canada
ATTACH;FMTTYPE=image/png:https://www.rccgbethelassembly.org/wp-content/uploads/2025/04/Thanksgiving-scaled.png
END:VEVENT
BEGIN:VEVENT
DTSTART;TZID=America/Toronto:20261007T190000
DTEND;TZID=America/Toronto:20261007T203000
DTSTAMP:20260423T200311
CREATED:20250429T060059Z
LAST-MODIFIED:20260207T204753Z
UID:10002923-1791399600-1791405000@www.rccgbethelassembly.org
SUMMARY:Bible Study
DESCRIPTION:
URL:https://www.rccgbethelassembly.org/event/bible-study/2026-10-07/
LOCATION:Church Auditorium\, 32 Wilson Rd North\, Oshawa\, Ontario\, L1G 6C8\, Canada
ATTACH;FMTTYPE=image/jpeg:https://www.rccgbethelassembly.org/wp-content/uploads/2026/02/BIBLE-STUDY-2026-scaled.jpg
END:VEVENT
END:VCALENDAR