BEGIN:VCALENDAR
VERSION:2.0
PRODID:-//RCCG Bethel Assembly Oshawa - ECPv6.15.16//NONSGML v1.0//EN
CALSCALE:GREGORIAN
METHOD:PUBLISH
X-WR-CALNAME:RCCG Bethel Assembly Oshawa
X-ORIGINAL-URL:https://www.rccgbethelassembly.org
X-WR-CALDESC:Events for RCCG Bethel Assembly Oshawa
REFRESH-INTERVAL;VALUE=DURATION:PT1H
X-Robots-Tag:noindex
X-PUBLISHED-TTL:PT1H
BEGIN:VTIMEZONE
TZID:America/Toronto
BEGIN:DAYLIGHT
TZOFFSETFROM:-0500
TZOFFSETTO:-0400
TZNAME:EDT
DTSTART:20240310T070000
END:DAYLIGHT
BEGIN:STANDARD
TZOFFSETFROM:-0400
TZOFFSETTO:-0500
TZNAME:EST
DTSTART:20241103T060000
END:STANDARD
BEGIN:DAYLIGHT
TZOFFSETFROM:-0500
TZOFFSETTO:-0400
TZNAME:EDT
DTSTART:20250309T070000
END:DAYLIGHT
BEGIN:STANDARD
TZOFFSETFROM:-0400
TZOFFSETTO:-0500
TZNAME:EST
DTSTART:20251102T060000
END:STANDARD
BEGIN:DAYLIGHT
TZOFFSETFROM:-0500
TZOFFSETTO:-0400
TZNAME:EDT
DTSTART:20260308T070000
END:DAYLIGHT
BEGIN:STANDARD
TZOFFSETFROM:-0400
TZOFFSETTO:-0500
TZNAME:EST
DTSTART:20261101T060000
END:STANDARD
BEGIN:DAYLIGHT
TZOFFSETFROM:-0500
TZOFFSETTO:-0400
TZNAME:EDT
DTSTART:20270314T070000
END:DAYLIGHT
BEGIN:STANDARD
TZOFFSETFROM:-0400
TZOFFSETTO:-0500
TZNAME:EST
DTSTART:20271107T060000
END:STANDARD
END:VTIMEZONE
BEGIN:VEVENT
DTSTART;TZID=America/Toronto:20260419T100000
DTEND;TZID=America/Toronto:20260419T120000
DTSTAMP:20260423T200629
CREATED:20260207T200510Z
LAST-MODIFIED:20260207T203209Z
UID:10003102-1776592800-1776600000@www.rccgbethelassembly.org
SUMMARY:Impartation and Miracle Service
DESCRIPTION:
URL:https://www.rccgbethelassembly.org/event/sunday-service-4/2026-04-19/
LOCATION:Church Auditorium\, 32 Wilson Rd North\, Oshawa\, Ontario\, L1G 6C8\, Canada
ATTACH;FMTTYPE=image/jpeg:https://www.rccgbethelassembly.org/wp-content/uploads/2026/02/IMPARTATION-MIRACLE-SERVICE-scaled.jpg
END:VEVENT
BEGIN:VEVENT
DTSTART;TZID=America/Toronto:20260412T100000
DTEND;TZID=America/Toronto:20260412T120000
DTSTAMP:20260423T200629
CREATED:20260207T200053Z
LAST-MODIFIED:20260207T200054Z
UID:10003092-1775988000-1775995200@www.rccgbethelassembly.org
SUMMARY:Sunday Service
DESCRIPTION:
URL:https://www.rccgbethelassembly.org/event/sunday-service-3/2026-04-12/
LOCATION:Church Auditorium\, 32 Wilson Rd North\, Oshawa\, Ontario\, L1G 6C8\, Canada
ATTACH;FMTTYPE=image/png:https://www.rccgbethelassembly.org/wp-content/uploads/2025/04/Sunday-Service.png
END:VEVENT
BEGIN:VEVENT
DTSTART;TZID=America/Toronto:20260411T080000
DTEND;TZID=America/Toronto:20260411T090000
DTSTAMP:20260423T200629
CREATED:20250429T054844Z
LAST-MODIFIED:20251216T233845Z
UID:10002929-1775894400-1775898000@www.rccgbethelassembly.org
SUMMARY:Bethel Hour
DESCRIPTION:
URL:https://www.rccgbethelassembly.org/event/bethel-hour/2026-04-11/
LOCATION:Church Auditorium\, 32 Wilson Rd North\, Oshawa\, Ontario\, L1G 6C8\, Canada
ATTACH;FMTTYPE=image/png:https://www.rccgbethelassembly.org/wp-content/uploads/2025/04/Bethel-Hour.png
END:VEVENT
BEGIN:VEVENT
DTSTART;TZID=America/Toronto:20260405T100000
DTEND;TZID=America/Toronto:20260405T120000
DTSTAMP:20260423T200629
CREATED:20250429T044300Z
LAST-MODIFIED:20251216T232814Z
UID:10002877-1775383200-1775390400@www.rccgbethelassembly.org
SUMMARY:Thanksgiving Sunday
DESCRIPTION:
URL:https://www.rccgbethelassembly.org/event/thanksgiving-sunday/2026-04-05/
LOCATION:Church Auditorium\, 32 Wilson Rd North\, Oshawa\, Ontario\, L1G 6C8\, Canada
ATTACH;FMTTYPE=image/png:https://www.rccgbethelassembly.org/wp-content/uploads/2025/04/Thanksgiving-scaled.png
END:VEVENT
BEGIN:VEVENT
DTSTART;TZID=America/Toronto:20260401T190000
DTEND;TZID=America/Toronto:20260401T203000
DTSTAMP:20260423T200629
CREATED:20250429T060059Z
LAST-MODIFIED:20260207T204753Z
UID:10002917-1775070000-1775075400@www.rccgbethelassembly.org
SUMMARY:Bible Study
DESCRIPTION:
URL:https://www.rccgbethelassembly.org/event/bible-study/2026-04-01/
LOCATION:Church Auditorium\, 32 Wilson Rd North\, Oshawa\, Ontario\, L1G 6C8\, Canada
ATTACH;FMTTYPE=image/jpeg:https://www.rccgbethelassembly.org/wp-content/uploads/2026/02/BIBLE-STUDY-2026-scaled.jpg
END:VEVENT
BEGIN:VEVENT
DTSTART;TZID=America/Toronto:20260329T100000
DTEND;TZID=America/Toronto:20260329T120000
DTSTAMP:20260423T200629
CREATED:20260207T204500Z
LAST-MODIFIED:20260207T204501Z
UID:10003112-1774778400-1774785600@www.rccgbethelassembly.org
SUMMARY:All Nations Praise Sunday
DESCRIPTION:
URL:https://www.rccgbethelassembly.org/event/sunday-service-5/2026-03-29/
LOCATION:Church Auditorium\, 32 Wilson Rd North\, Oshawa\, Ontario\, L1G 6C8\, Canada
ATTACH;FMTTYPE=image/jpeg:https://www.rccgbethelassembly.org/wp-content/uploads/2025/04/All-Nations-scaled.jpg
END:VEVENT
BEGIN:VEVENT
DTSTART;TZID=America/Toronto:20260327T220000
DTEND;TZID=America/Toronto:20260327T220000
DTSTAMP:20260423T200629
CREATED:20260207T212018Z
LAST-MODIFIED:20260207T212020Z
UID:10003143-1774648800-1774648800@www.rccgbethelassembly.org
SUMMARY:Vigil
DESCRIPTION:
URL:https://www.rccgbethelassembly.org/event/vigil-2-2/2026-03-27/
LOCATION:Church Auditorium\, 32 Wilson Rd North\, Oshawa\, Ontario\, L1G 6C8\, Canada
ATTACH;FMTTYPE=image/jpeg:https://www.rccgbethelassembly.org/wp-content/uploads/2026/02/VIGIL-SERVICE-scaled.jpg
END:VEVENT
BEGIN:VEVENT
DTSTART;TZID=America/Toronto:20260327T220000
DTEND;TZID=America/Toronto:20260327T220000
DTSTAMP:20260423T200629
CREATED:20260207T205131Z
LAST-MODIFIED:20260207T211821Z
UID:10003125-1774648800-1774648800@www.rccgbethelassembly.org
SUMMARY:Vigil
DESCRIPTION:
URL:https://www.rccgbethelassembly.org/event/vigil-2/
LOCATION:Church Auditorium\, 32 Wilson Rd North\, Oshawa\, Ontario\, L1G 6C8\, Canada
ATTACH;FMTTYPE=image/jpeg:https://www.rccgbethelassembly.org/wp-content/uploads/2026/02/VIGIL-SERVICE-scaled.jpg
END:VEVENT
BEGIN:VEVENT
DTSTART;TZID=America/Toronto:20260322T100000
DTEND;TZID=America/Toronto:20260322T120000
DTSTAMP:20260423T200629
CREATED:20260207T195521Z
LAST-MODIFIED:20260207T202448Z
UID:10002969-1774173600-1774180800@www.rccgbethelassembly.org
SUMMARY:Sunday Service
DESCRIPTION:
URL:https://www.rccgbethelassembly.org/event/sunday-service-2/2026-03-22/
LOCATION:Church Auditorium\, 32 Wilson Rd North\, Oshawa\, Ontario\, L1G 6C8\, Canada
ATTACH;FMTTYPE=image/png:https://www.rccgbethelassembly.org/wp-content/uploads/2025/04/Sunday-Service.png
END:VEVENT
BEGIN:VEVENT
DTSTART;TZID=America/Toronto:20260315T100000
DTEND;TZID=America/Toronto:20260315T120000
DTSTAMP:20260423T200629
CREATED:20260207T200510Z
LAST-MODIFIED:20260207T203209Z
UID:10002962-1773568800-1773576000@www.rccgbethelassembly.org
SUMMARY:Impartation and Miracle Service
DESCRIPTION:
URL:https://www.rccgbethelassembly.org/event/sunday-service-4/2026-03-15/
LOCATION:Church Auditorium\, 32 Wilson Rd North\, Oshawa\, Ontario\, L1G 6C8\, Canada
ATTACH;FMTTYPE=image/jpeg:https://www.rccgbethelassembly.org/wp-content/uploads/2026/02/IMPARTATION-MIRACLE-SERVICE-scaled.jpg
END:VEVENT
BEGIN:VEVENT
DTSTART;TZID=America/Toronto:20260314T080000
DTEND;TZID=America/Toronto:20260314T090000
DTSTAMP:20260423T200629
CREATED:20250429T054844Z
LAST-MODIFIED:20251216T233845Z
UID:10002928-1773475200-1773478800@www.rccgbethelassembly.org
SUMMARY:Bethel Hour
DESCRIPTION:
URL:https://www.rccgbethelassembly.org/event/bethel-hour/2026-03-14/
LOCATION:Church Auditorium\, 32 Wilson Rd North\, Oshawa\, Ontario\, L1G 6C8\, Canada
ATTACH;FMTTYPE=image/png:https://www.rccgbethelassembly.org/wp-content/uploads/2025/04/Bethel-Hour.png
END:VEVENT
BEGIN:VEVENT
DTSTART;TZID=America/Toronto:20260308T100000
DTEND;TZID=America/Toronto:20260308T120000
DTSTAMP:20260423T200629
CREATED:20260207T200053Z
LAST-MODIFIED:20260207T200054Z
UID:10003091-1772964000-1772971200@www.rccgbethelassembly.org
SUMMARY:Sunday Service
DESCRIPTION:
URL:https://www.rccgbethelassembly.org/event/sunday-service-3/2026-03-08/
LOCATION:Church Auditorium\, 32 Wilson Rd North\, Oshawa\, Ontario\, L1G 6C8\, Canada
ATTACH;FMTTYPE=image/png:https://www.rccgbethelassembly.org/wp-content/uploads/2025/04/Sunday-Service.png
END:VEVENT
BEGIN:VEVENT
DTSTART;TZID=America/Toronto:20260304T190000
DTEND;TZID=America/Toronto:20260304T203000
DTSTAMP:20260423T200629
CREATED:20250429T060059Z
LAST-MODIFIED:20260207T204753Z
UID:10002916-1772650800-1772656200@www.rccgbethelassembly.org
SUMMARY:Bible Study
DESCRIPTION:
URL:https://www.rccgbethelassembly.org/event/bible-study/2026-03-04/
LOCATION:Church Auditorium\, 32 Wilson Rd North\, Oshawa\, Ontario\, L1G 6C8\, Canada
ATTACH;FMTTYPE=image/jpeg:https://www.rccgbethelassembly.org/wp-content/uploads/2026/02/BIBLE-STUDY-2026-scaled.jpg
END:VEVENT
BEGIN:VEVENT
DTSTART;TZID=America/Toronto:20260301T100000
DTEND;TZID=America/Toronto:20260301T120000
DTSTAMP:20260423T200629
CREATED:20250429T044300Z
LAST-MODIFIED:20251216T232814Z
UID:10002876-1772359200-1772366400@www.rccgbethelassembly.org
SUMMARY:Thanksgiving Sunday
DESCRIPTION:
URL:https://www.rccgbethelassembly.org/event/thanksgiving-sunday/2026-03-01/
LOCATION:Church Auditorium\, 32 Wilson Rd North\, Oshawa\, Ontario\, L1G 6C8\, Canada
ATTACH;FMTTYPE=image/png:https://www.rccgbethelassembly.org/wp-content/uploads/2025/04/Thanksgiving-scaled.png
END:VEVENT
BEGIN:VEVENT
DTSTART;TZID=America/Toronto:20260227T080000
DTEND;TZID=America/Toronto:20260227T170000
DTSTAMP:20260423T200629
CREATED:20260207T212213Z
LAST-MODIFIED:20260207T212321Z
UID:10003154-1772179200-1772211600@www.rccgbethelassembly.org
SUMMARY:Vigil - Night of Worship
DESCRIPTION:
URL:https://www.rccgbethelassembly.org/event/night-of-worship/
LOCATION:Church Auditorium\, 32 Wilson Rd North\, Oshawa\, Ontario\, L1G 6C8\, Canada
ATTACH;FMTTYPE=image/jpeg:https://www.rccgbethelassembly.org/wp-content/uploads/2026/02/Feb-Vigil-Service-scaled.jpg
END:VEVENT
BEGIN:VEVENT
DTSTART;TZID=America/Toronto:20260222T100000
DTEND;TZID=America/Toronto:20260222T120000
DTSTAMP:20260423T200629
CREATED:20260207T202725Z
LAST-MODIFIED:20260207T202725Z
UID:10003111-1771754400-1771761600@www.rccgbethelassembly.org
SUMMARY:15th Anniversary Sunday Service
DESCRIPTION:
URL:https://www.rccgbethelassembly.org/event/15th-anniversary-sunday-service/
LOCATION:Church Auditorium\, 32 Wilson Rd North\, Oshawa\, Ontario\, L1G 6C8\, Canada
ATTACH;FMTTYPE=image/jpeg:https://www.rccgbethelassembly.org/wp-content/uploads/2026/02/Anniversary-Service-scaled.jpg
END:VEVENT
BEGIN:VEVENT
DTSTART;TZID=America/Toronto:20260215T100000
DTEND;TZID=America/Toronto:20260215T120000
DTSTAMP:20260423T200629
CREATED:20260207T200510Z
LAST-MODIFIED:20260207T203209Z
UID:10003101-1771149600-1771156800@www.rccgbethelassembly.org
SUMMARY:Impartation and Miracle Service
DESCRIPTION:
URL:https://www.rccgbethelassembly.org/event/sunday-service-4/2026-02-15/
LOCATION:Church Auditorium\, 32 Wilson Rd North\, Oshawa\, Ontario\, L1G 6C8\, Canada
ATTACH;FMTTYPE=image/jpeg:https://www.rccgbethelassembly.org/wp-content/uploads/2026/02/IMPARTATION-MIRACLE-SERVICE-scaled.jpg
END:VEVENT
BEGIN:VEVENT
DTSTART;TZID=America/Toronto:20260214T080000
DTEND;TZID=America/Toronto:20260214T090000
DTSTAMP:20260423T200629
CREATED:20250429T054844Z
LAST-MODIFIED:20251216T233845Z
UID:10002927-1771056000-1771059600@www.rccgbethelassembly.org
SUMMARY:Bethel Hour
DESCRIPTION:
URL:https://www.rccgbethelassembly.org/event/bethel-hour/2026-02-14/
LOCATION:Church Auditorium\, 32 Wilson Rd North\, Oshawa\, Ontario\, L1G 6C8\, Canada
ATTACH;FMTTYPE=image/png:https://www.rccgbethelassembly.org/wp-content/uploads/2025/04/Bethel-Hour.png
END:VEVENT
BEGIN:VEVENT
DTSTART;TZID=America/Toronto:20260208T100000
DTEND;TZID=America/Toronto:20260208T120000
DTSTAMP:20260423T200629
CREATED:20260207T200053Z
LAST-MODIFIED:20260207T200054Z
UID:10002963-1770544800-1770552000@www.rccgbethelassembly.org
SUMMARY:Sunday Service
DESCRIPTION:
URL:https://www.rccgbethelassembly.org/event/sunday-service-3/2026-02-08/
LOCATION:Church Auditorium\, 32 Wilson Rd North\, Oshawa\, Ontario\, L1G 6C8\, Canada
ATTACH;FMTTYPE=image/png:https://www.rccgbethelassembly.org/wp-content/uploads/2025/04/Sunday-Service.png
END:VEVENT
BEGIN:VEVENT
DTSTART;TZID=America/Toronto:20260204T190000
DTEND;TZID=America/Toronto:20260204T203000
DTSTAMP:20260423T200629
CREATED:20250429T060059Z
LAST-MODIFIED:20260207T204753Z
UID:10002915-1770231600-1770237000@www.rccgbethelassembly.org
SUMMARY:Bible Study
DESCRIPTION:
URL:https://www.rccgbethelassembly.org/event/bible-study/2026-02-04/
LOCATION:Church Auditorium\, 32 Wilson Rd North\, Oshawa\, Ontario\, L1G 6C8\, Canada
ATTACH;FMTTYPE=image/jpeg:https://www.rccgbethelassembly.org/wp-content/uploads/2026/02/BIBLE-STUDY-2026-scaled.jpg
END:VEVENT
BEGIN:VEVENT
DTSTART;TZID=America/Toronto:20260201T100000
DTEND;TZID=America/Toronto:20260201T120000
DTSTAMP:20260423T200629
CREATED:20250429T044300Z
LAST-MODIFIED:20251216T232814Z
UID:10002875-1769940000-1769947200@www.rccgbethelassembly.org
SUMMARY:Thanksgiving Sunday
DESCRIPTION:
URL:https://www.rccgbethelassembly.org/event/thanksgiving-sunday/2026-02-01/
LOCATION:Church Auditorium\, 32 Wilson Rd North\, Oshawa\, Ontario\, L1G 6C8\, Canada
ATTACH;FMTTYPE=image/png:https://www.rccgbethelassembly.org/wp-content/uploads/2025/04/Thanksgiving-scaled.png
END:VEVENT
BEGIN:VEVENT
DTSTART;TZID=America/Toronto:20260130T220000
DTEND;TZID=America/Toronto:20260131T000000
DTSTAMP:20260423T200629
CREATED:20250429T055256Z
LAST-MODIFIED:20251216T233410Z
UID:10002834-1769810400-1769817600@www.rccgbethelassembly.org
SUMMARY:Vigil
DESCRIPTION:
URL:https://www.rccgbethelassembly.org/event/vigil/2026-01-30/
LOCATION:Church Auditorium\, 32 Wilson Rd North\, Oshawa\, Ontario\, L1G 6C8\, Canada
ATTACH;FMTTYPE=image/png:https://www.rccgbethelassembly.org/wp-content/uploads/2025/04/Vigil.png
END:VEVENT
BEGIN:VEVENT
DTSTART;TZID=America/Toronto:20260110T080000
DTEND;TZID=America/Toronto:20260110T090000
DTSTAMP:20260423T200629
CREATED:20250429T054844Z
LAST-MODIFIED:20251216T233845Z
UID:10002926-1768032000-1768035600@www.rccgbethelassembly.org
SUMMARY:Bethel Hour
DESCRIPTION:
URL:https://www.rccgbethelassembly.org/event/bethel-hour/2026-01-10/
LOCATION:Church Auditorium\, 32 Wilson Rd North\, Oshawa\, Ontario\, L1G 6C8\, Canada
ATTACH;FMTTYPE=image/png:https://www.rccgbethelassembly.org/wp-content/uploads/2025/04/Bethel-Hour.png
END:VEVENT
BEGIN:VEVENT
DTSTART;TZID=America/Toronto:20260107T190000
DTEND;TZID=America/Toronto:20260107T203000
DTSTAMP:20260423T200629
CREATED:20250429T060059Z
LAST-MODIFIED:20260207T204753Z
UID:10002914-1767812400-1767817800@www.rccgbethelassembly.org
SUMMARY:Bible Study
DESCRIPTION:
URL:https://www.rccgbethelassembly.org/event/bible-study/2026-01-07/
LOCATION:Church Auditorium\, 32 Wilson Rd North\, Oshawa\, Ontario\, L1G 6C8\, Canada
ATTACH;FMTTYPE=image/jpeg:https://www.rccgbethelassembly.org/wp-content/uploads/2026/02/BIBLE-STUDY-2026-scaled.jpg
END:VEVENT
BEGIN:VEVENT
DTSTART;TZID=America/Toronto:20260104T100000
DTEND;TZID=America/Toronto:20260104T120000
DTSTAMP:20260423T200629
CREATED:20250429T044300Z
LAST-MODIFIED:20251216T232814Z
UID:10002874-1767520800-1767528000@www.rccgbethelassembly.org
SUMMARY:Thanksgiving Sunday
DESCRIPTION:
URL:https://www.rccgbethelassembly.org/event/thanksgiving-sunday/2026-01-04/
LOCATION:Church Auditorium\, 32 Wilson Rd North\, Oshawa\, Ontario\, L1G 6C8\, Canada
ATTACH;FMTTYPE=image/png:https://www.rccgbethelassembly.org/wp-content/uploads/2025/04/Thanksgiving-scaled.png
END:VEVENT
BEGIN:VEVENT
DTSTART;TZID=America/Toronto:20251226T220000
DTEND;TZID=America/Toronto:20251227T000000
DTSTAMP:20260423T200629
CREATED:20250429T055256Z
LAST-MODIFIED:20251216T233410Z
UID:10002867-1766786400-1766793600@www.rccgbethelassembly.org
SUMMARY:Vigil
DESCRIPTION:
URL:https://www.rccgbethelassembly.org/event/vigil/2025-12-26/
LOCATION:Church Auditorium\, 32 Wilson Rd North\, Oshawa\, Ontario\, L1G 6C8\, Canada
ATTACH;FMTTYPE=image/png:https://www.rccgbethelassembly.org/wp-content/uploads/2025/04/Vigil.png
END:VEVENT
BEGIN:VEVENT
DTSTART;TZID=America/Toronto:20251213T080000
DTEND;TZID=America/Toronto:20251213T090000
DTSTAMP:20260423T200629
CREATED:20250429T054844Z
LAST-MODIFIED:20251216T233845Z
UID:10002825-1765612800-1765616400@www.rccgbethelassembly.org
SUMMARY:Bethel Hour
DESCRIPTION:
URL:https://www.rccgbethelassembly.org/event/bethel-hour/2025-12-13/
LOCATION:Church Auditorium\, 32 Wilson Rd North\, Oshawa\, Ontario\, L1G 6C8\, Canada
ATTACH;FMTTYPE=image/png:https://www.rccgbethelassembly.org/wp-content/uploads/2025/04/Bethel-Hour.png
END:VEVENT
BEGIN:VEVENT
DTSTART;TZID=America/Toronto:20251207T100000
DTEND;TZID=America/Toronto:20251207T120000
DTSTAMP:20260423T200629
CREATED:20250429T044300Z
LAST-MODIFIED:20251216T232814Z
UID:10002789-1765101600-1765108800@www.rccgbethelassembly.org
SUMMARY:Thanksgiving Sunday
DESCRIPTION:
URL:https://www.rccgbethelassembly.org/event/thanksgiving-sunday/2025-12-07/
LOCATION:Church Auditorium\, 32 Wilson Rd North\, Oshawa\, Ontario\, L1G 6C8\, Canada
ATTACH;FMTTYPE=image/png:https://www.rccgbethelassembly.org/wp-content/uploads/2025/04/Thanksgiving-scaled.png
END:VEVENT
BEGIN:VEVENT
DTSTART;TZID=America/Toronto:20251203T190000
DTEND;TZID=America/Toronto:20251203T203000
DTSTAMP:20260423T200629
CREATED:20250429T060059Z
LAST-MODIFIED:20260207T204753Z
UID:10002853-1764788400-1764793800@www.rccgbethelassembly.org
SUMMARY:Bible Study
DESCRIPTION:
URL:https://www.rccgbethelassembly.org/event/bible-study/2025-12-03/
LOCATION:Church Auditorium\, 32 Wilson Rd North\, Oshawa\, Ontario\, L1G 6C8\, Canada
ATTACH;FMTTYPE=image/jpeg:https://www.rccgbethelassembly.org/wp-content/uploads/2026/02/BIBLE-STUDY-2026-scaled.jpg
END:VEVENT
BEGIN:VEVENT
DTSTART;TZID=America/Toronto:20251128T220000
DTEND;TZID=America/Toronto:20251129T000000
DTSTAMP:20260423T200629
CREATED:20250429T055256Z
LAST-MODIFIED:20251216T233410Z
UID:10002866-1764367200-1764374400@www.rccgbethelassembly.org
SUMMARY:Vigil
DESCRIPTION:
URL:https://www.rccgbethelassembly.org/event/vigil/2025-11-28/
LOCATION:Church Auditorium\, 32 Wilson Rd North\, Oshawa\, Ontario\, L1G 6C8\, Canada
ATTACH;FMTTYPE=image/png:https://www.rccgbethelassembly.org/wp-content/uploads/2025/04/Vigil.png
END:VEVENT
END:VCALENDAR