BEGIN:VCALENDAR
VERSION:2.0
PRODID:-//RCCG Bethel Assembly Oshawa - ECPv6.15.16//NONSGML v1.0//EN
CALSCALE:GREGORIAN
METHOD:PUBLISH
X-WR-CALNAME:RCCG Bethel Assembly Oshawa
X-ORIGINAL-URL:https://www.rccgbethelassembly.org
X-WR-CALDESC:Events for RCCG Bethel Assembly Oshawa
REFRESH-INTERVAL;VALUE=DURATION:PT1H
X-Robots-Tag:noindex
X-PUBLISHED-TTL:PT1H
BEGIN:VTIMEZONE
TZID:America/Toronto
BEGIN:DAYLIGHT
TZOFFSETFROM:-0500
TZOFFSETTO:-0400
TZNAME:EDT
DTSTART:20270314T070000
END:DAYLIGHT
BEGIN:STANDARD
TZOFFSETFROM:-0400
TZOFFSETTO:-0500
TZNAME:EST
DTSTART:20271107T060000
END:STANDARD
BEGIN:DAYLIGHT
TZOFFSETFROM:-0500
TZOFFSETTO:-0400
TZNAME:EDT
DTSTART:20280312T070000
END:DAYLIGHT
BEGIN:STANDARD
TZOFFSETFROM:-0400
TZOFFSETTO:-0500
TZNAME:EST
DTSTART:20281105T060000
END:STANDARD
BEGIN:DAYLIGHT
TZOFFSETFROM:-0500
TZOFFSETTO:-0400
TZNAME:EDT
DTSTART:20290311T070000
END:DAYLIGHT
BEGIN:STANDARD
TZOFFSETFROM:-0400
TZOFFSETTO:-0500
TZNAME:EST
DTSTART:20291104T060000
END:STANDARD
BEGIN:DAYLIGHT
TZOFFSETFROM:-0500
TZOFFSETTO:-0400
TZNAME:EDT
DTSTART:20300310T070000
END:DAYLIGHT
BEGIN:STANDARD
TZOFFSETFROM:-0400
TZOFFSETTO:-0500
TZNAME:EST
DTSTART:20301103T060000
END:STANDARD
END:VTIMEZONE
BEGIN:VEVENT
DTSTART;TZID=America/Toronto:20280702T100000
DTEND;TZID=America/Toronto:20280702T120000
DTSTAMP:20260425T062631
CREATED:20250429T044300Z
LAST-MODIFIED:20251216T232814Z
UID:10002904-1846144800-1846152000@www.rccgbethelassembly.org
SUMMARY:Thanksgiving Sunday
DESCRIPTION:
URL:https://www.rccgbethelassembly.org/event/thanksgiving-sunday/2028-07-02/
LOCATION:Church Auditorium\, 32 Wilson Rd North\, Oshawa\, Ontario\, L1G 6C8\, Canada
ATTACH;FMTTYPE=image/png:https://www.rccgbethelassembly.org/wp-content/uploads/2025/04/Thanksgiving-scaled.png
END:VEVENT
BEGIN:VEVENT
DTSTART;TZID=America/Toronto:20280806T100000
DTEND;TZID=America/Toronto:20280806T120000
DTSTAMP:20260425T062631
CREATED:20250429T044300Z
LAST-MODIFIED:20251216T232814Z
UID:10002905-1849168800-1849176000@www.rccgbethelassembly.org
SUMMARY:Thanksgiving Sunday
DESCRIPTION:
URL:https://www.rccgbethelassembly.org/event/thanksgiving-sunday/2028-08-06/
LOCATION:Church Auditorium\, 32 Wilson Rd North\, Oshawa\, Ontario\, L1G 6C8\, Canada
ATTACH;FMTTYPE=image/png:https://www.rccgbethelassembly.org/wp-content/uploads/2025/04/Thanksgiving-scaled.png
END:VEVENT
BEGIN:VEVENT
DTSTART;TZID=America/Toronto:20280903T100000
DTEND;TZID=America/Toronto:20280903T120000
DTSTAMP:20260425T062631
CREATED:20250429T044300Z
LAST-MODIFIED:20251216T232814Z
UID:10002906-1851588000-1851595200@www.rccgbethelassembly.org
SUMMARY:Thanksgiving Sunday
DESCRIPTION:
URL:https://www.rccgbethelassembly.org/event/thanksgiving-sunday/2028-09-03/
LOCATION:Church Auditorium\, 32 Wilson Rd North\, Oshawa\, Ontario\, L1G 6C8\, Canada
ATTACH;FMTTYPE=image/png:https://www.rccgbethelassembly.org/wp-content/uploads/2025/04/Thanksgiving-scaled.png
END:VEVENT
BEGIN:VEVENT
DTSTART;TZID=America/Toronto:20281001T100000
DTEND;TZID=America/Toronto:20281001T120000
DTSTAMP:20260425T062631
CREATED:20250429T044300Z
LAST-MODIFIED:20251216T232814Z
UID:10002907-1854007200-1854014400@www.rccgbethelassembly.org
SUMMARY:Thanksgiving Sunday
DESCRIPTION:
URL:https://www.rccgbethelassembly.org/event/thanksgiving-sunday/2028-10-01/
LOCATION:Church Auditorium\, 32 Wilson Rd North\, Oshawa\, Ontario\, L1G 6C8\, Canada
ATTACH;FMTTYPE=image/png:https://www.rccgbethelassembly.org/wp-content/uploads/2025/04/Thanksgiving-scaled.png
END:VEVENT
BEGIN:VEVENT
DTSTART;TZID=America/Toronto:20281105T100000
DTEND;TZID=America/Toronto:20281105T120000
DTSTAMP:20260425T062631
CREATED:20250429T044300Z
LAST-MODIFIED:20251216T232814Z
UID:10002908-1857031200-1857038400@www.rccgbethelassembly.org
SUMMARY:Thanksgiving Sunday
DESCRIPTION:
URL:https://www.rccgbethelassembly.org/event/thanksgiving-sunday/2028-11-05/
LOCATION:Church Auditorium\, 32 Wilson Rd North\, Oshawa\, Ontario\, L1G 6C8\, Canada
ATTACH;FMTTYPE=image/png:https://www.rccgbethelassembly.org/wp-content/uploads/2025/04/Thanksgiving-scaled.png
END:VEVENT
BEGIN:VEVENT
DTSTART;TZID=America/Toronto:20281203T100000
DTEND;TZID=America/Toronto:20281203T120000
DTSTAMP:20260425T062631
CREATED:20250429T044300Z
LAST-MODIFIED:20251216T232814Z
UID:10002909-1859450400-1859457600@www.rccgbethelassembly.org
SUMMARY:Thanksgiving Sunday
DESCRIPTION:
URL:https://www.rccgbethelassembly.org/event/thanksgiving-sunday/2028-12-03/
LOCATION:Church Auditorium\, 32 Wilson Rd North\, Oshawa\, Ontario\, L1G 6C8\, Canada
ATTACH;FMTTYPE=image/png:https://www.rccgbethelassembly.org/wp-content/uploads/2025/04/Thanksgiving-scaled.png
END:VEVENT
BEGIN:VEVENT
DTSTART;TZID=America/Toronto:20290107T100000
DTEND;TZID=America/Toronto:20290107T120000
DTSTAMP:20260425T062631
CREATED:20250429T044300Z
LAST-MODIFIED:20251216T232814Z
UID:10002910-1862474400-1862481600@www.rccgbethelassembly.org
SUMMARY:Thanksgiving Sunday
DESCRIPTION:
URL:https://www.rccgbethelassembly.org/event/thanksgiving-sunday/2029-01-07/
LOCATION:Church Auditorium\, 32 Wilson Rd North\, Oshawa\, Ontario\, L1G 6C8\, Canada
ATTACH;FMTTYPE=image/png:https://www.rccgbethelassembly.org/wp-content/uploads/2025/04/Thanksgiving-scaled.png
END:VEVENT
BEGIN:VEVENT
DTSTART;TZID=America/Toronto:20290204T100000
DTEND;TZID=America/Toronto:20290204T120000
DTSTAMP:20260425T062631
CREATED:20250429T044300Z
LAST-MODIFIED:20251216T232814Z
UID:10002911-1864893600-1864900800@www.rccgbethelassembly.org
SUMMARY:Thanksgiving Sunday
DESCRIPTION:
URL:https://www.rccgbethelassembly.org/event/thanksgiving-sunday/2029-02-04/
LOCATION:Church Auditorium\, 32 Wilson Rd North\, Oshawa\, Ontario\, L1G 6C8\, Canada
ATTACH;FMTTYPE=image/png:https://www.rccgbethelassembly.org/wp-content/uploads/2025/04/Thanksgiving-scaled.png
END:VEVENT
BEGIN:VEVENT
DTSTART;TZID=America/Toronto:20290304T100000
DTEND;TZID=America/Toronto:20290304T120000
DTSTAMP:20260425T062631
CREATED:20250429T044300Z
LAST-MODIFIED:20251216T232814Z
UID:10002912-1867312800-1867320000@www.rccgbethelassembly.org
SUMMARY:Thanksgiving Sunday
DESCRIPTION:
URL:https://www.rccgbethelassembly.org/event/thanksgiving-sunday/2029-03-04/
LOCATION:Church Auditorium\, 32 Wilson Rd North\, Oshawa\, Ontario\, L1G 6C8\, Canada
ATTACH;FMTTYPE=image/png:https://www.rccgbethelassembly.org/wp-content/uploads/2025/04/Thanksgiving-scaled.png
END:VEVENT
BEGIN:VEVENT
DTSTART;TZID=America/Toronto:20290401T100000
DTEND;TZID=America/Toronto:20290401T120000
DTSTAMP:20260425T062631
CREATED:20250429T044300Z
LAST-MODIFIED:20251216T232814Z
UID:10002913-1869732000-1869739200@www.rccgbethelassembly.org
SUMMARY:Thanksgiving Sunday
DESCRIPTION:
URL:https://www.rccgbethelassembly.org/event/thanksgiving-sunday/2029-04-01/
LOCATION:Church Auditorium\, 32 Wilson Rd North\, Oshawa\, Ontario\, L1G 6C8\, Canada
ATTACH;FMTTYPE=image/png:https://www.rccgbethelassembly.org/wp-content/uploads/2025/04/Thanksgiving-scaled.png
END:VEVENT
END:VCALENDAR