BEGIN:VCALENDAR
VERSION:2.0
PRODID:-//RCCG Bethel Assembly Oshawa - ECPv6.15.16//NONSGML v1.0//EN
CALSCALE:GREGORIAN
METHOD:PUBLISH
X-WR-CALNAME:RCCG Bethel Assembly Oshawa
X-ORIGINAL-URL:https://www.rccgbethelassembly.org
X-WR-CALDESC:Events for RCCG Bethel Assembly Oshawa
REFRESH-INTERVAL;VALUE=DURATION:PT1H
X-Robots-Tag:noindex
X-PUBLISHED-TTL:PT1H
BEGIN:VTIMEZONE
TZID:America/Toronto
BEGIN:DAYLIGHT
TZOFFSETFROM:-0500
TZOFFSETTO:-0400
TZNAME:EDT
DTSTART:20250309T070000
END:DAYLIGHT
BEGIN:STANDARD
TZOFFSETFROM:-0400
TZOFFSETTO:-0500
TZNAME:EST
DTSTART:20251102T060000
END:STANDARD
BEGIN:DAYLIGHT
TZOFFSETFROM:-0500
TZOFFSETTO:-0400
TZNAME:EDT
DTSTART:20260308T070000
END:DAYLIGHT
BEGIN:STANDARD
TZOFFSETFROM:-0400
TZOFFSETTO:-0500
TZNAME:EST
DTSTART:20261101T060000
END:STANDARD
BEGIN:DAYLIGHT
TZOFFSETFROM:-0500
TZOFFSETTO:-0400
TZNAME:EDT
DTSTART:20270314T070000
END:DAYLIGHT
BEGIN:STANDARD
TZOFFSETFROM:-0400
TZOFFSETTO:-0500
TZNAME:EST
DTSTART:20271107T060000
END:STANDARD
BEGIN:DAYLIGHT
TZOFFSETFROM:-0500
TZOFFSETTO:-0400
TZNAME:EDT
DTSTART:20280312T070000
END:DAYLIGHT
BEGIN:STANDARD
TZOFFSETFROM:-0400
TZOFFSETTO:-0500
TZNAME:EST
DTSTART:20281105T060000
END:STANDARD
END:VTIMEZONE
BEGIN:VEVENT
DTSTART;TZID=America/Toronto:20261206T100000
DTEND;TZID=America/Toronto:20261206T120000
DTSTAMP:20260425T091619
CREATED:20250429T044300Z
LAST-MODIFIED:20251216T232814Z
UID:10002885-1796551200-1796558400@www.rccgbethelassembly.org
SUMMARY:Thanksgiving Sunday
DESCRIPTION:
URL:https://www.rccgbethelassembly.org/event/thanksgiving-sunday/2026-12-06/
LOCATION:Church Auditorium\, 32 Wilson Rd North\, Oshawa\, Ontario\, L1G 6C8\, Canada
ATTACH;FMTTYPE=image/png:https://www.rccgbethelassembly.org/wp-content/uploads/2025/04/Thanksgiving-scaled.png
END:VEVENT
BEGIN:VEVENT
DTSTART;TZID=America/Toronto:20261212T080000
DTEND;TZID=America/Toronto:20261212T090000
DTSTAMP:20260425T091619
CREATED:20250429T054844Z
LAST-MODIFIED:20251216T233845Z
UID:10002937-1797062400-1797066000@www.rccgbethelassembly.org
SUMMARY:Bethel Hour
DESCRIPTION:
URL:https://www.rccgbethelassembly.org/event/bethel-hour/2026-12-12/
LOCATION:Church Auditorium\, 32 Wilson Rd North\, Oshawa\, Ontario\, L1G 6C8\, Canada
ATTACH;FMTTYPE=image/png:https://www.rccgbethelassembly.org/wp-content/uploads/2025/04/Bethel-Hour.png
END:VEVENT
BEGIN:VEVENT
DTSTART;TZID=America/Toronto:20261213T100000
DTEND;TZID=America/Toronto:20261213T120000
DTSTAMP:20260425T091619
CREATED:20260207T200053Z
LAST-MODIFIED:20260207T200054Z
UID:10003100-1797156000-1797163200@www.rccgbethelassembly.org
SUMMARY:Sunday Service
DESCRIPTION:
URL:https://www.rccgbethelassembly.org/event/sunday-service-3/2026-12-13/
LOCATION:Church Auditorium\, 32 Wilson Rd North\, Oshawa\, Ontario\, L1G 6C8\, Canada
ATTACH;FMTTYPE=image/png:https://www.rccgbethelassembly.org/wp-content/uploads/2025/04/Sunday-Service.png
END:VEVENT
BEGIN:VEVENT
DTSTART;TZID=America/Toronto:20261220T100000
DTEND;TZID=America/Toronto:20261220T120000
DTSTAMP:20260425T091619
CREATED:20260207T200510Z
LAST-MODIFIED:20260207T203209Z
UID:10003110-1797760800-1797768000@www.rccgbethelassembly.org
SUMMARY:Impartation and Miracle Service
DESCRIPTION:
URL:https://www.rccgbethelassembly.org/event/sunday-service-4/2026-12-20/
LOCATION:Church Auditorium\, 32 Wilson Rd North\, Oshawa\, Ontario\, L1G 6C8\, Canada
ATTACH;FMTTYPE=image/jpeg:https://www.rccgbethelassembly.org/wp-content/uploads/2026/02/IMPARTATION-MIRACLE-SERVICE-scaled.jpg
END:VEVENT
BEGIN:VEVENT
DTSTART;TZID=America/Toronto:20261225T220000
DTEND;TZID=America/Toronto:20261225T220000
DTSTAMP:20260425T091619
CREATED:20260207T212018Z
LAST-MODIFIED:20260207T212020Z
UID:10003151-1798236000-1798236000@www.rccgbethelassembly.org
SUMMARY:Vigil
DESCRIPTION:
URL:https://www.rccgbethelassembly.org/event/vigil-2-2/2026-12-25/
LOCATION:Church Auditorium\, 32 Wilson Rd North\, Oshawa\, Ontario\, L1G 6C8\, Canada
ATTACH;FMTTYPE=image/jpeg:https://www.rccgbethelassembly.org/wp-content/uploads/2026/02/VIGIL-SERVICE-scaled.jpg
END:VEVENT
BEGIN:VEVENT
DTSTART;TZID=America/Toronto:20261227T100000
DTEND;TZID=America/Toronto:20261227T120000
DTSTAMP:20260425T091619
CREATED:20260207T195521Z
LAST-MODIFIED:20260207T202448Z
UID:10003009-1798365600-1798372800@www.rccgbethelassembly.org
SUMMARY:Sunday Service
DESCRIPTION:
URL:https://www.rccgbethelassembly.org/event/sunday-service-2/2026-12-27/
LOCATION:Church Auditorium\, 32 Wilson Rd North\, Oshawa\, Ontario\, L1G 6C8\, Canada
ATTACH;FMTTYPE=image/png:https://www.rccgbethelassembly.org/wp-content/uploads/2025/04/Sunday-Service.png
END:VEVENT
BEGIN:VEVENT
DTSTART;TZID=America/Toronto:20270103T100000
DTEND;TZID=America/Toronto:20270103T120000
DTSTAMP:20260425T091619
CREATED:20250429T044300Z
LAST-MODIFIED:20251216T232814Z
UID:10002886-1798970400-1798977600@www.rccgbethelassembly.org
SUMMARY:Thanksgiving Sunday
DESCRIPTION:
URL:https://www.rccgbethelassembly.org/event/thanksgiving-sunday/2027-01-03/
LOCATION:Church Auditorium\, 32 Wilson Rd North\, Oshawa\, Ontario\, L1G 6C8\, Canada
ATTACH;FMTTYPE=image/png:https://www.rccgbethelassembly.org/wp-content/uploads/2025/04/Thanksgiving-scaled.png
END:VEVENT
BEGIN:VEVENT
DTSTART;TZID=America/Toronto:20270106T190000
DTEND;TZID=America/Toronto:20270106T203000
DTSTAMP:20260425T091619
CREATED:20250429T060059Z
LAST-MODIFIED:20260207T204753Z
UID:10003059-1799262000-1799267400@www.rccgbethelassembly.org
SUMMARY:Bible Study
DESCRIPTION:
URL:https://www.rccgbethelassembly.org/event/bible-study/2027-01-06/
LOCATION:Church Auditorium\, 32 Wilson Rd North\, Oshawa\, Ontario\, L1G 6C8\, Canada
ATTACH;FMTTYPE=image/jpeg:https://www.rccgbethelassembly.org/wp-content/uploads/2026/02/BIBLE-STUDY-2026-scaled.jpg
END:VEVENT
BEGIN:VEVENT
DTSTART;TZID=America/Toronto:20270109T080000
DTEND;TZID=America/Toronto:20270109T090000
DTSTAMP:20260425T091619
CREATED:20250429T054844Z
LAST-MODIFIED:20251216T233845Z
UID:10003071-1799481600-1799485200@www.rccgbethelassembly.org
SUMMARY:Bethel Hour
DESCRIPTION:
URL:https://www.rccgbethelassembly.org/event/bethel-hour/2027-01-09/
LOCATION:Church Auditorium\, 32 Wilson Rd North\, Oshawa\, Ontario\, L1G 6C8\, Canada
ATTACH;FMTTYPE=image/png:https://www.rccgbethelassembly.org/wp-content/uploads/2025/04/Bethel-Hour.png
END:VEVENT
BEGIN:VEVENT
DTSTART;TZID=America/Toronto:20270129T220000
DTEND;TZID=America/Toronto:20270129T220000
DTSTAMP:20260425T091619
CREATED:20260207T212018Z
LAST-MODIFIED:20260207T212020Z
UID:10003152-1801260000-1801260000@www.rccgbethelassembly.org
SUMMARY:Vigil
DESCRIPTION:
URL:https://www.rccgbethelassembly.org/event/vigil-2-2/2027-01-29/
LOCATION:Church Auditorium\, 32 Wilson Rd North\, Oshawa\, Ontario\, L1G 6C8\, Canada
ATTACH;FMTTYPE=image/jpeg:https://www.rccgbethelassembly.org/wp-content/uploads/2026/02/VIGIL-SERVICE-scaled.jpg
END:VEVENT
BEGIN:VEVENT
DTSTART;TZID=America/Toronto:20270203T190000
DTEND;TZID=America/Toronto:20270203T203000
DTSTAMP:20260425T091619
CREATED:20250429T060059Z
LAST-MODIFIED:20260207T204753Z
UID:10003060-1801681200-1801686600@www.rccgbethelassembly.org
SUMMARY:Bible Study
DESCRIPTION:
URL:https://www.rccgbethelassembly.org/event/bible-study/2027-02-03/
LOCATION:Church Auditorium\, 32 Wilson Rd North\, Oshawa\, Ontario\, L1G 6C8\, Canada
ATTACH;FMTTYPE=image/jpeg:https://www.rccgbethelassembly.org/wp-content/uploads/2026/02/BIBLE-STUDY-2026-scaled.jpg
END:VEVENT
BEGIN:VEVENT
DTSTART;TZID=America/Toronto:20270207T100000
DTEND;TZID=America/Toronto:20270207T120000
DTSTAMP:20260425T091619
CREATED:20250429T044300Z
LAST-MODIFIED:20251216T232814Z
UID:10002887-1801994400-1802001600@www.rccgbethelassembly.org
SUMMARY:Thanksgiving Sunday
DESCRIPTION:
URL:https://www.rccgbethelassembly.org/event/thanksgiving-sunday/2027-02-07/
LOCATION:Church Auditorium\, 32 Wilson Rd North\, Oshawa\, Ontario\, L1G 6C8\, Canada
ATTACH;FMTTYPE=image/png:https://www.rccgbethelassembly.org/wp-content/uploads/2025/04/Thanksgiving-scaled.png
END:VEVENT
BEGIN:VEVENT
DTSTART;TZID=America/Toronto:20270213T080000
DTEND;TZID=America/Toronto:20270213T090000
DTSTAMP:20260425T091619
CREATED:20250429T054844Z
LAST-MODIFIED:20251216T233845Z
UID:10003072-1802505600-1802509200@www.rccgbethelassembly.org
SUMMARY:Bethel Hour
DESCRIPTION:
URL:https://www.rccgbethelassembly.org/event/bethel-hour/2027-02-13/
LOCATION:Church Auditorium\, 32 Wilson Rd North\, Oshawa\, Ontario\, L1G 6C8\, Canada
ATTACH;FMTTYPE=image/png:https://www.rccgbethelassembly.org/wp-content/uploads/2025/04/Bethel-Hour.png
END:VEVENT
BEGIN:VEVENT
DTSTART;TZID=America/Toronto:20270226T220000
DTEND;TZID=America/Toronto:20270226T220000
DTSTAMP:20260425T091619
CREATED:20260207T212018Z
LAST-MODIFIED:20260207T212020Z
UID:10003153-1803679200-1803679200@www.rccgbethelassembly.org
SUMMARY:Vigil
DESCRIPTION:
URL:https://www.rccgbethelassembly.org/event/vigil-2-2/2027-02-26/
LOCATION:Church Auditorium\, 32 Wilson Rd North\, Oshawa\, Ontario\, L1G 6C8\, Canada
ATTACH;FMTTYPE=image/jpeg:https://www.rccgbethelassembly.org/wp-content/uploads/2026/02/VIGIL-SERVICE-scaled.jpg
END:VEVENT
BEGIN:VEVENT
DTSTART;TZID=America/Toronto:20270303T190000
DTEND;TZID=America/Toronto:20270303T203000
DTSTAMP:20260425T091619
CREATED:20250429T060059Z
LAST-MODIFIED:20260207T204753Z
UID:10003061-1804100400-1804105800@www.rccgbethelassembly.org
SUMMARY:Bible Study
DESCRIPTION:
URL:https://www.rccgbethelassembly.org/event/bible-study/2027-03-03/
LOCATION:Church Auditorium\, 32 Wilson Rd North\, Oshawa\, Ontario\, L1G 6C8\, Canada
ATTACH;FMTTYPE=image/jpeg:https://www.rccgbethelassembly.org/wp-content/uploads/2026/02/BIBLE-STUDY-2026-scaled.jpg
END:VEVENT
BEGIN:VEVENT
DTSTART;TZID=America/Toronto:20270307T100000
DTEND;TZID=America/Toronto:20270307T120000
DTSTAMP:20260425T091619
CREATED:20250429T044300Z
LAST-MODIFIED:20251216T232814Z
UID:10002888-1804413600-1804420800@www.rccgbethelassembly.org
SUMMARY:Thanksgiving Sunday
DESCRIPTION:
URL:https://www.rccgbethelassembly.org/event/thanksgiving-sunday/2027-03-07/
LOCATION:Church Auditorium\, 32 Wilson Rd North\, Oshawa\, Ontario\, L1G 6C8\, Canada
ATTACH;FMTTYPE=image/png:https://www.rccgbethelassembly.org/wp-content/uploads/2025/04/Thanksgiving-scaled.png
END:VEVENT
BEGIN:VEVENT
DTSTART;TZID=America/Toronto:20270313T080000
DTEND;TZID=America/Toronto:20270313T090000
DTSTAMP:20260425T091619
CREATED:20250429T054844Z
LAST-MODIFIED:20251216T233845Z
UID:10003073-1804924800-1804928400@www.rccgbethelassembly.org
SUMMARY:Bethel Hour
DESCRIPTION:
URL:https://www.rccgbethelassembly.org/event/bethel-hour/2027-03-13/
LOCATION:Church Auditorium\, 32 Wilson Rd North\, Oshawa\, Ontario\, L1G 6C8\, Canada
ATTACH;FMTTYPE=image/png:https://www.rccgbethelassembly.org/wp-content/uploads/2025/04/Bethel-Hour.png
END:VEVENT
BEGIN:VEVENT
DTSTART;TZID=America/Toronto:20270404T100000
DTEND;TZID=America/Toronto:20270404T120000
DTSTAMP:20260425T091619
CREATED:20250429T044300Z
LAST-MODIFIED:20251216T232814Z
UID:10002889-1806832800-1806840000@www.rccgbethelassembly.org
SUMMARY:Thanksgiving Sunday
DESCRIPTION:
URL:https://www.rccgbethelassembly.org/event/thanksgiving-sunday/2027-04-04/
LOCATION:Church Auditorium\, 32 Wilson Rd North\, Oshawa\, Ontario\, L1G 6C8\, Canada
ATTACH;FMTTYPE=image/png:https://www.rccgbethelassembly.org/wp-content/uploads/2025/04/Thanksgiving-scaled.png
END:VEVENT
BEGIN:VEVENT
DTSTART;TZID=America/Toronto:20270407T190000
DTEND;TZID=America/Toronto:20270407T203000
DTSTAMP:20260425T091619
CREATED:20250429T060059Z
LAST-MODIFIED:20260207T204753Z
UID:10003062-1807124400-1807129800@www.rccgbethelassembly.org
SUMMARY:Bible Study
DESCRIPTION:
URL:https://www.rccgbethelassembly.org/event/bible-study/2027-04-07/
LOCATION:Church Auditorium\, 32 Wilson Rd North\, Oshawa\, Ontario\, L1G 6C8\, Canada
ATTACH;FMTTYPE=image/jpeg:https://www.rccgbethelassembly.org/wp-content/uploads/2026/02/BIBLE-STUDY-2026-scaled.jpg
END:VEVENT
BEGIN:VEVENT
DTSTART;TZID=America/Toronto:20270410T080000
DTEND;TZID=America/Toronto:20270410T090000
DTSTAMP:20260425T091619
CREATED:20250429T054844Z
LAST-MODIFIED:20251216T233845Z
UID:10003074-1807344000-1807347600@www.rccgbethelassembly.org
SUMMARY:Bethel Hour
DESCRIPTION:
URL:https://www.rccgbethelassembly.org/event/bethel-hour/2027-04-10/
LOCATION:Church Auditorium\, 32 Wilson Rd North\, Oshawa\, Ontario\, L1G 6C8\, Canada
ATTACH;FMTTYPE=image/png:https://www.rccgbethelassembly.org/wp-content/uploads/2025/04/Bethel-Hour.png
END:VEVENT
BEGIN:VEVENT
DTSTART;TZID=America/Toronto:20270502T100000
DTEND;TZID=America/Toronto:20270502T120000
DTSTAMP:20260425T091619
CREATED:20250429T044300Z
LAST-MODIFIED:20251216T232814Z
UID:10002890-1809252000-1809259200@www.rccgbethelassembly.org
SUMMARY:Thanksgiving Sunday
DESCRIPTION:
URL:https://www.rccgbethelassembly.org/event/thanksgiving-sunday/2027-05-02/
LOCATION:Church Auditorium\, 32 Wilson Rd North\, Oshawa\, Ontario\, L1G 6C8\, Canada
ATTACH;FMTTYPE=image/png:https://www.rccgbethelassembly.org/wp-content/uploads/2025/04/Thanksgiving-scaled.png
END:VEVENT
BEGIN:VEVENT
DTSTART;TZID=America/Toronto:20270505T190000
DTEND;TZID=America/Toronto:20270505T203000
DTSTAMP:20260425T091619
CREATED:20250429T060059Z
LAST-MODIFIED:20260207T204753Z
UID:10003063-1809543600-1809549000@www.rccgbethelassembly.org
SUMMARY:Bible Study
DESCRIPTION:
URL:https://www.rccgbethelassembly.org/event/bible-study/2027-05-05/
LOCATION:Church Auditorium\, 32 Wilson Rd North\, Oshawa\, Ontario\, L1G 6C8\, Canada
ATTACH;FMTTYPE=image/jpeg:https://www.rccgbethelassembly.org/wp-content/uploads/2026/02/BIBLE-STUDY-2026-scaled.jpg
END:VEVENT
BEGIN:VEVENT
DTSTART;TZID=America/Toronto:20270508T080000
DTEND;TZID=America/Toronto:20270508T090000
DTSTAMP:20260425T091619
CREATED:20250429T054844Z
LAST-MODIFIED:20251216T233845Z
UID:10003075-1809763200-1809766800@www.rccgbethelassembly.org
SUMMARY:Bethel Hour
DESCRIPTION:
URL:https://www.rccgbethelassembly.org/event/bethel-hour/2027-05-08/
LOCATION:Church Auditorium\, 32 Wilson Rd North\, Oshawa\, Ontario\, L1G 6C8\, Canada
ATTACH;FMTTYPE=image/png:https://www.rccgbethelassembly.org/wp-content/uploads/2025/04/Bethel-Hour.png
END:VEVENT
BEGIN:VEVENT
DTSTART;TZID=America/Toronto:20270602T190000
DTEND;TZID=America/Toronto:20270602T203000
DTSTAMP:20260425T091619
CREATED:20250429T060059Z
LAST-MODIFIED:20260207T204753Z
UID:10003064-1811962800-1811968200@www.rccgbethelassembly.org
SUMMARY:Bible Study
DESCRIPTION:
URL:https://www.rccgbethelassembly.org/event/bible-study/2027-06-02/
LOCATION:Church Auditorium\, 32 Wilson Rd North\, Oshawa\, Ontario\, L1G 6C8\, Canada
ATTACH;FMTTYPE=image/jpeg:https://www.rccgbethelassembly.org/wp-content/uploads/2026/02/BIBLE-STUDY-2026-scaled.jpg
END:VEVENT
BEGIN:VEVENT
DTSTART;TZID=America/Toronto:20270606T100000
DTEND;TZID=America/Toronto:20270606T120000
DTSTAMP:20260425T091619
CREATED:20250429T044300Z
LAST-MODIFIED:20251216T232814Z
UID:10002891-1812276000-1812283200@www.rccgbethelassembly.org
SUMMARY:Thanksgiving Sunday
DESCRIPTION:
URL:https://www.rccgbethelassembly.org/event/thanksgiving-sunday/2027-06-06/
LOCATION:Church Auditorium\, 32 Wilson Rd North\, Oshawa\, Ontario\, L1G 6C8\, Canada
ATTACH;FMTTYPE=image/png:https://www.rccgbethelassembly.org/wp-content/uploads/2025/04/Thanksgiving-scaled.png
END:VEVENT
BEGIN:VEVENT
DTSTART;TZID=America/Toronto:20270612T080000
DTEND;TZID=America/Toronto:20270612T090000
DTSTAMP:20260425T091619
CREATED:20250429T054844Z
LAST-MODIFIED:20251216T233845Z
UID:10003076-1812787200-1812790800@www.rccgbethelassembly.org
SUMMARY:Bethel Hour
DESCRIPTION:
URL:https://www.rccgbethelassembly.org/event/bethel-hour/2027-06-12/
LOCATION:Church Auditorium\, 32 Wilson Rd North\, Oshawa\, Ontario\, L1G 6C8\, Canada
ATTACH;FMTTYPE=image/png:https://www.rccgbethelassembly.org/wp-content/uploads/2025/04/Bethel-Hour.png
END:VEVENT
BEGIN:VEVENT
DTSTART;TZID=America/Toronto:20270704T100000
DTEND;TZID=America/Toronto:20270704T120000
DTSTAMP:20260425T091619
CREATED:20250429T044300Z
LAST-MODIFIED:20251216T232814Z
UID:10002892-1814695200-1814702400@www.rccgbethelassembly.org
SUMMARY:Thanksgiving Sunday
DESCRIPTION:
URL:https://www.rccgbethelassembly.org/event/thanksgiving-sunday/2027-07-04/
LOCATION:Church Auditorium\, 32 Wilson Rd North\, Oshawa\, Ontario\, L1G 6C8\, Canada
ATTACH;FMTTYPE=image/png:https://www.rccgbethelassembly.org/wp-content/uploads/2025/04/Thanksgiving-scaled.png
END:VEVENT
BEGIN:VEVENT
DTSTART;TZID=America/Toronto:20270707T190000
DTEND;TZID=America/Toronto:20270707T203000
DTSTAMP:20260425T091619
CREATED:20250429T060059Z
LAST-MODIFIED:20260207T204753Z
UID:10003065-1814986800-1814992200@www.rccgbethelassembly.org
SUMMARY:Bible Study
DESCRIPTION:
URL:https://www.rccgbethelassembly.org/event/bible-study/2027-07-07/
LOCATION:Church Auditorium\, 32 Wilson Rd North\, Oshawa\, Ontario\, L1G 6C8\, Canada
ATTACH;FMTTYPE=image/jpeg:https://www.rccgbethelassembly.org/wp-content/uploads/2026/02/BIBLE-STUDY-2026-scaled.jpg
END:VEVENT
BEGIN:VEVENT
DTSTART;TZID=America/Toronto:20270710T080000
DTEND;TZID=America/Toronto:20270710T090000
DTSTAMP:20260425T091619
CREATED:20250429T054844Z
LAST-MODIFIED:20251216T233845Z
UID:10003077-1815206400-1815210000@www.rccgbethelassembly.org
SUMMARY:Bethel Hour
DESCRIPTION:
URL:https://www.rccgbethelassembly.org/event/bethel-hour/2027-07-10/
LOCATION:Church Auditorium\, 32 Wilson Rd North\, Oshawa\, Ontario\, L1G 6C8\, Canada
ATTACH;FMTTYPE=image/png:https://www.rccgbethelassembly.org/wp-content/uploads/2025/04/Bethel-Hour.png
END:VEVENT
BEGIN:VEVENT
DTSTART;TZID=America/Toronto:20270801T100000
DTEND;TZID=America/Toronto:20270801T120000
DTSTAMP:20260425T091619
CREATED:20250429T044300Z
LAST-MODIFIED:20251216T232814Z
UID:10002893-1817114400-1817121600@www.rccgbethelassembly.org
SUMMARY:Thanksgiving Sunday
DESCRIPTION:
URL:https://www.rccgbethelassembly.org/event/thanksgiving-sunday/2027-08-01/
LOCATION:Church Auditorium\, 32 Wilson Rd North\, Oshawa\, Ontario\, L1G 6C8\, Canada
ATTACH;FMTTYPE=image/png:https://www.rccgbethelassembly.org/wp-content/uploads/2025/04/Thanksgiving-scaled.png
END:VEVENT
END:VCALENDAR