BEGIN:VCALENDAR
VERSION:2.0
PRODID:-//RCCG Bethel Assembly Oshawa - ECPv6.15.16//NONSGML v1.0//EN
CALSCALE:GREGORIAN
METHOD:PUBLISH
X-WR-CALNAME:RCCG Bethel Assembly Oshawa
X-ORIGINAL-URL:https://www.rccgbethelassembly.org
X-WR-CALDESC:Events for RCCG Bethel Assembly Oshawa
REFRESH-INTERVAL;VALUE=DURATION:PT1H
X-Robots-Tag:noindex
X-PUBLISHED-TTL:PT1H
BEGIN:VTIMEZONE
TZID:America/Toronto
BEGIN:DAYLIGHT
TZOFFSETFROM:-0500
TZOFFSETTO:-0400
TZNAME:EDT
DTSTART:20250309T070000
END:DAYLIGHT
BEGIN:STANDARD
TZOFFSETFROM:-0400
TZOFFSETTO:-0500
TZNAME:EST
DTSTART:20251102T060000
END:STANDARD
BEGIN:DAYLIGHT
TZOFFSETFROM:-0500
TZOFFSETTO:-0400
TZNAME:EDT
DTSTART:20260308T070000
END:DAYLIGHT
BEGIN:STANDARD
TZOFFSETFROM:-0400
TZOFFSETTO:-0500
TZNAME:EST
DTSTART:20261101T060000
END:STANDARD
BEGIN:DAYLIGHT
TZOFFSETFROM:-0500
TZOFFSETTO:-0400
TZNAME:EDT
DTSTART:20270314T070000
END:DAYLIGHT
BEGIN:STANDARD
TZOFFSETFROM:-0400
TZOFFSETTO:-0500
TZNAME:EST
DTSTART:20271107T060000
END:STANDARD
BEGIN:DAYLIGHT
TZOFFSETFROM:-0500
TZOFFSETTO:-0400
TZNAME:EDT
DTSTART:20280312T070000
END:DAYLIGHT
BEGIN:STANDARD
TZOFFSETFROM:-0400
TZOFFSETTO:-0500
TZNAME:EST
DTSTART:20281105T060000
END:STANDARD
END:VTIMEZONE
BEGIN:VEVENT
DTSTART;TZID=America/Toronto:20260424T220000
DTEND;TZID=America/Toronto:20260424T220000
DTSTAMP:20260423T104819
CREATED:20260207T212018Z
LAST-MODIFIED:20260207T212020Z
UID:10003144-1777068000-1777068000@www.rccgbethelassembly.org
SUMMARY:Vigil
DESCRIPTION:
URL:https://www.rccgbethelassembly.org/event/vigil-2-2/2026-04-24/
LOCATION:Church Auditorium\, 32 Wilson Rd North\, Oshawa\, Ontario\, L1G 6C8\, Canada
ATTACH;FMTTYPE=image/jpeg:https://www.rccgbethelassembly.org/wp-content/uploads/2026/02/VIGIL-SERVICE-scaled.jpg
END:VEVENT
BEGIN:VEVENT
DTSTART;TZID=America/Toronto:20260529T220000
DTEND;TZID=America/Toronto:20260529T220000
DTSTAMP:20260423T104819
CREATED:20260207T212018Z
LAST-MODIFIED:20260207T212020Z
UID:10003145-1780092000-1780092000@www.rccgbethelassembly.org
SUMMARY:Vigil
DESCRIPTION:
URL:https://www.rccgbethelassembly.org/event/vigil-2-2/2026-05-29/
LOCATION:Church Auditorium\, 32 Wilson Rd North\, Oshawa\, Ontario\, L1G 6C8\, Canada
ATTACH;FMTTYPE=image/jpeg:https://www.rccgbethelassembly.org/wp-content/uploads/2026/02/VIGIL-SERVICE-scaled.jpg
END:VEVENT
BEGIN:VEVENT
DTSTART;TZID=America/Toronto:20260626T220000
DTEND;TZID=America/Toronto:20260626T220000
DTSTAMP:20260423T104819
CREATED:20260207T212018Z
LAST-MODIFIED:20260207T212020Z
UID:10003146-1782511200-1782511200@www.rccgbethelassembly.org
SUMMARY:Vigil
DESCRIPTION:
URL:https://www.rccgbethelassembly.org/event/vigil-2-2/2026-06-26/
LOCATION:Church Auditorium\, 32 Wilson Rd North\, Oshawa\, Ontario\, L1G 6C8\, Canada
ATTACH;FMTTYPE=image/jpeg:https://www.rccgbethelassembly.org/wp-content/uploads/2026/02/VIGIL-SERVICE-scaled.jpg
END:VEVENT
BEGIN:VEVENT
DTSTART;TZID=America/Toronto:20260731T220000
DTEND;TZID=America/Toronto:20260731T220000
DTSTAMP:20260423T104819
CREATED:20260207T212018Z
LAST-MODIFIED:20260207T212020Z
UID:10003147-1785535200-1785535200@www.rccgbethelassembly.org
SUMMARY:Vigil
DESCRIPTION:
URL:https://www.rccgbethelassembly.org/event/vigil-2-2/2026-07-31/
LOCATION:Church Auditorium\, 32 Wilson Rd North\, Oshawa\, Ontario\, L1G 6C8\, Canada
ATTACH;FMTTYPE=image/jpeg:https://www.rccgbethelassembly.org/wp-content/uploads/2026/02/VIGIL-SERVICE-scaled.jpg
END:VEVENT
BEGIN:VEVENT
DTSTART;TZID=America/Toronto:20260828T220000
DTEND;TZID=America/Toronto:20260828T220000
DTSTAMP:20260423T104819
CREATED:20260207T212018Z
LAST-MODIFIED:20260207T212020Z
UID:10003148-1787954400-1787954400@www.rccgbethelassembly.org
SUMMARY:Vigil
DESCRIPTION:
URL:https://www.rccgbethelassembly.org/event/vigil-2-2/2026-08-28/
LOCATION:Church Auditorium\, 32 Wilson Rd North\, Oshawa\, Ontario\, L1G 6C8\, Canada
ATTACH;FMTTYPE=image/jpeg:https://www.rccgbethelassembly.org/wp-content/uploads/2026/02/VIGIL-SERVICE-scaled.jpg
END:VEVENT
BEGIN:VEVENT
DTSTART;TZID=America/Toronto:20260925T220000
DTEND;TZID=America/Toronto:20260925T220000
DTSTAMP:20260423T104819
CREATED:20260207T212018Z
LAST-MODIFIED:20260207T212020Z
UID:10003149-1790373600-1790373600@www.rccgbethelassembly.org
SUMMARY:Vigil
DESCRIPTION:
URL:https://www.rccgbethelassembly.org/event/vigil-2-2/2026-09-25/
LOCATION:Church Auditorium\, 32 Wilson Rd North\, Oshawa\, Ontario\, L1G 6C8\, Canada
ATTACH;FMTTYPE=image/jpeg:https://www.rccgbethelassembly.org/wp-content/uploads/2026/02/VIGIL-SERVICE-scaled.jpg
END:VEVENT
BEGIN:VEVENT
DTSTART;TZID=America/Toronto:20261030T220000
DTEND;TZID=America/Toronto:20261030T220000
DTSTAMP:20260423T104819
CREATED:20260207T212018Z
LAST-MODIFIED:20260207T212020Z
UID:10003150-1793397600-1793397600@www.rccgbethelassembly.org
SUMMARY:Vigil
DESCRIPTION:
URL:https://www.rccgbethelassembly.org/event/vigil-2-2/2026-10-30/
LOCATION:Church Auditorium\, 32 Wilson Rd North\, Oshawa\, Ontario\, L1G 6C8\, Canada
ATTACH;FMTTYPE=image/jpeg:https://www.rccgbethelassembly.org/wp-content/uploads/2026/02/VIGIL-SERVICE-scaled.jpg
END:VEVENT
BEGIN:VEVENT
DTSTART;TZID=America/Toronto:20261127T220000
DTEND;TZID=America/Toronto:20261127T220000
DTSTAMP:20260423T104819
CREATED:20260207T212018Z
LAST-MODIFIED:20260207T212020Z
UID:10002946-1795816800-1795816800@www.rccgbethelassembly.org
SUMMARY:Vigil
DESCRIPTION:
URL:https://www.rccgbethelassembly.org/event/vigil-2-2/2026-11-27/
LOCATION:Church Auditorium\, 32 Wilson Rd North\, Oshawa\, Ontario\, L1G 6C8\, Canada
ATTACH;FMTTYPE=image/jpeg:https://www.rccgbethelassembly.org/wp-content/uploads/2026/02/VIGIL-SERVICE-scaled.jpg
END:VEVENT
BEGIN:VEVENT
DTSTART;TZID=America/Toronto:20261225T220000
DTEND;TZID=America/Toronto:20261225T220000
DTSTAMP:20260423T104819
CREATED:20260207T212018Z
LAST-MODIFIED:20260207T212020Z
UID:10003151-1798236000-1798236000@www.rccgbethelassembly.org
SUMMARY:Vigil
DESCRIPTION:
URL:https://www.rccgbethelassembly.org/event/vigil-2-2/2026-12-25/
LOCATION:Church Auditorium\, 32 Wilson Rd North\, Oshawa\, Ontario\, L1G 6C8\, Canada
ATTACH;FMTTYPE=image/jpeg:https://www.rccgbethelassembly.org/wp-content/uploads/2026/02/VIGIL-SERVICE-scaled.jpg
END:VEVENT
BEGIN:VEVENT
DTSTART;TZID=America/Toronto:20270129T220000
DTEND;TZID=America/Toronto:20270129T220000
DTSTAMP:20260423T104819
CREATED:20260207T212018Z
LAST-MODIFIED:20260207T212020Z
UID:10003152-1801260000-1801260000@www.rccgbethelassembly.org
SUMMARY:Vigil
DESCRIPTION:
URL:https://www.rccgbethelassembly.org/event/vigil-2-2/2027-01-29/
LOCATION:Church Auditorium\, 32 Wilson Rd North\, Oshawa\, Ontario\, L1G 6C8\, Canada
ATTACH;FMTTYPE=image/jpeg:https://www.rccgbethelassembly.org/wp-content/uploads/2026/02/VIGIL-SERVICE-scaled.jpg
END:VEVENT
BEGIN:VEVENT
DTSTART;TZID=America/Toronto:20270226T220000
DTEND;TZID=America/Toronto:20270226T220000
DTSTAMP:20260423T104819
CREATED:20260207T212018Z
LAST-MODIFIED:20260207T212020Z
UID:10003153-1803679200-1803679200@www.rccgbethelassembly.org
SUMMARY:Vigil
DESCRIPTION:
URL:https://www.rccgbethelassembly.org/event/vigil-2-2/2027-02-26/
LOCATION:Church Auditorium\, 32 Wilson Rd North\, Oshawa\, Ontario\, L1G 6C8\, Canada
ATTACH;FMTTYPE=image/jpeg:https://www.rccgbethelassembly.org/wp-content/uploads/2026/02/VIGIL-SERVICE-scaled.jpg
END:VEVENT
END:VCALENDAR