BEGIN:VCALENDAR
VERSION:2.0
PRODID:-//RCCG Bethel Assembly Oshawa - ECPv6.15.16//NONSGML v1.0//EN
CALSCALE:GREGORIAN
METHOD:PUBLISH
X-WR-CALNAME:RCCG Bethel Assembly Oshawa
X-ORIGINAL-URL:https://www.rccgbethelassembly.org
X-WR-CALDESC:Events for RCCG Bethel Assembly Oshawa
REFRESH-INTERVAL;VALUE=DURATION:PT1H
X-Robots-Tag:noindex
X-PUBLISHED-TTL:PT1H
BEGIN:VTIMEZONE
TZID:America/Toronto
BEGIN:DAYLIGHT
TZOFFSETFROM:-0500
TZOFFSETTO:-0400
TZNAME:EDT
DTSTART:20250309T070000
END:DAYLIGHT
BEGIN:STANDARD
TZOFFSETFROM:-0400
TZOFFSETTO:-0500
TZNAME:EST
DTSTART:20251102T060000
END:STANDARD
BEGIN:DAYLIGHT
TZOFFSETFROM:-0500
TZOFFSETTO:-0400
TZNAME:EDT
DTSTART:20260308T070000
END:DAYLIGHT
BEGIN:STANDARD
TZOFFSETFROM:-0400
TZOFFSETTO:-0500
TZNAME:EST
DTSTART:20261101T060000
END:STANDARD
BEGIN:DAYLIGHT
TZOFFSETFROM:-0500
TZOFFSETTO:-0400
TZNAME:EDT
DTSTART:20270314T070000
END:DAYLIGHT
BEGIN:STANDARD
TZOFFSETFROM:-0400
TZOFFSETTO:-0500
TZNAME:EST
DTSTART:20271107T060000
END:STANDARD
BEGIN:DAYLIGHT
TZOFFSETFROM:-0500
TZOFFSETTO:-0400
TZNAME:EDT
DTSTART:20280312T070000
END:DAYLIGHT
BEGIN:STANDARD
TZOFFSETFROM:-0400
TZOFFSETTO:-0500
TZNAME:EST
DTSTART:20281105T060000
END:STANDARD
END:VTIMEZONE
BEGIN:VEVENT
DTSTART;TZID=America/Toronto:20260506T190000
DTEND;TZID=America/Toronto:20260506T203000
DTSTAMP:20260423T104817
CREATED:20250429T060059Z
LAST-MODIFIED:20260207T204753Z
UID:10002918-1778094000-1778099400@www.rccgbethelassembly.org
SUMMARY:Bible Study
DESCRIPTION:
URL:https://www.rccgbethelassembly.org/event/bible-study/2026-05-06/
LOCATION:Church Auditorium\, 32 Wilson Rd North\, Oshawa\, Ontario\, L1G 6C8\, Canada
ATTACH;FMTTYPE=image/jpeg:https://www.rccgbethelassembly.org/wp-content/uploads/2026/02/BIBLE-STUDY-2026-scaled.jpg
END:VEVENT
BEGIN:VEVENT
DTSTART;TZID=America/Toronto:20260603T190000
DTEND;TZID=America/Toronto:20260603T203000
DTSTAMP:20260423T104817
CREATED:20250429T060059Z
LAST-MODIFIED:20260207T204753Z
UID:10002919-1780513200-1780518600@www.rccgbethelassembly.org
SUMMARY:Bible Study
DESCRIPTION:
URL:https://www.rccgbethelassembly.org/event/bible-study/2026-06-03/
LOCATION:Church Auditorium\, 32 Wilson Rd North\, Oshawa\, Ontario\, L1G 6C8\, Canada
ATTACH;FMTTYPE=image/jpeg:https://www.rccgbethelassembly.org/wp-content/uploads/2026/02/BIBLE-STUDY-2026-scaled.jpg
END:VEVENT
BEGIN:VEVENT
DTSTART;TZID=America/Toronto:20260701T190000
DTEND;TZID=America/Toronto:20260701T203000
DTSTAMP:20260423T104817
CREATED:20250429T060059Z
LAST-MODIFIED:20260207T204753Z
UID:10002920-1782932400-1782937800@www.rccgbethelassembly.org
SUMMARY:Bible Study
DESCRIPTION:
URL:https://www.rccgbethelassembly.org/event/bible-study/2026-07-01/
LOCATION:Church Auditorium\, 32 Wilson Rd North\, Oshawa\, Ontario\, L1G 6C8\, Canada
ATTACH;FMTTYPE=image/jpeg:https://www.rccgbethelassembly.org/wp-content/uploads/2026/02/BIBLE-STUDY-2026-scaled.jpg
END:VEVENT
BEGIN:VEVENT
DTSTART;TZID=America/Toronto:20260805T190000
DTEND;TZID=America/Toronto:20260805T203000
DTSTAMP:20260423T104817
CREATED:20250429T060059Z
LAST-MODIFIED:20260207T204753Z
UID:10002921-1785956400-1785961800@www.rccgbethelassembly.org
SUMMARY:Bible Study
DESCRIPTION:
URL:https://www.rccgbethelassembly.org/event/bible-study/2026-08-05/
LOCATION:Church Auditorium\, 32 Wilson Rd North\, Oshawa\, Ontario\, L1G 6C8\, Canada
ATTACH;FMTTYPE=image/jpeg:https://www.rccgbethelassembly.org/wp-content/uploads/2026/02/BIBLE-STUDY-2026-scaled.jpg
END:VEVENT
BEGIN:VEVENT
DTSTART;TZID=America/Toronto:20260902T190000
DTEND;TZID=America/Toronto:20260902T203000
DTSTAMP:20260423T104817
CREATED:20250429T060059Z
LAST-MODIFIED:20260207T204753Z
UID:10002922-1788375600-1788381000@www.rccgbethelassembly.org
SUMMARY:Bible Study
DESCRIPTION:
URL:https://www.rccgbethelassembly.org/event/bible-study/2026-09-02/
LOCATION:Church Auditorium\, 32 Wilson Rd North\, Oshawa\, Ontario\, L1G 6C8\, Canada
ATTACH;FMTTYPE=image/jpeg:https://www.rccgbethelassembly.org/wp-content/uploads/2026/02/BIBLE-STUDY-2026-scaled.jpg
END:VEVENT
BEGIN:VEVENT
DTSTART;TZID=America/Toronto:20261007T190000
DTEND;TZID=America/Toronto:20261007T203000
DTSTAMP:20260423T104817
CREATED:20250429T060059Z
LAST-MODIFIED:20260207T204753Z
UID:10002923-1791399600-1791405000@www.rccgbethelassembly.org
SUMMARY:Bible Study
DESCRIPTION:
URL:https://www.rccgbethelassembly.org/event/bible-study/2026-10-07/
LOCATION:Church Auditorium\, 32 Wilson Rd North\, Oshawa\, Ontario\, L1G 6C8\, Canada
ATTACH;FMTTYPE=image/jpeg:https://www.rccgbethelassembly.org/wp-content/uploads/2026/02/BIBLE-STUDY-2026-scaled.jpg
END:VEVENT
BEGIN:VEVENT
DTSTART;TZID=America/Toronto:20261104T190000
DTEND;TZID=America/Toronto:20261104T203000
DTSTAMP:20260423T104817
CREATED:20250429T060059Z
LAST-MODIFIED:20260207T204753Z
UID:10002924-1793818800-1793824200@www.rccgbethelassembly.org
SUMMARY:Bible Study
DESCRIPTION:
URL:https://www.rccgbethelassembly.org/event/bible-study/2026-11-04/
LOCATION:Church Auditorium\, 32 Wilson Rd North\, Oshawa\, Ontario\, L1G 6C8\, Canada
ATTACH;FMTTYPE=image/jpeg:https://www.rccgbethelassembly.org/wp-content/uploads/2026/02/BIBLE-STUDY-2026-scaled.jpg
END:VEVENT
BEGIN:VEVENT
DTSTART;TZID=America/Toronto:20261202T190000
DTEND;TZID=America/Toronto:20261202T203000
DTSTAMP:20260423T104817
CREATED:20250429T060059Z
LAST-MODIFIED:20260207T204753Z
UID:10002925-1796238000-1796243400@www.rccgbethelassembly.org
SUMMARY:Bible Study
DESCRIPTION:
URL:https://www.rccgbethelassembly.org/event/bible-study/2026-12-02/
LOCATION:Church Auditorium\, 32 Wilson Rd North\, Oshawa\, Ontario\, L1G 6C8\, Canada
ATTACH;FMTTYPE=image/jpeg:https://www.rccgbethelassembly.org/wp-content/uploads/2026/02/BIBLE-STUDY-2026-scaled.jpg
END:VEVENT
BEGIN:VEVENT
DTSTART;TZID=America/Toronto:20270106T190000
DTEND;TZID=America/Toronto:20270106T203000
DTSTAMP:20260423T104817
CREATED:20250429T060059Z
LAST-MODIFIED:20260207T204753Z
UID:10003059-1799262000-1799267400@www.rccgbethelassembly.org
SUMMARY:Bible Study
DESCRIPTION:
URL:https://www.rccgbethelassembly.org/event/bible-study/2027-01-06/
LOCATION:Church Auditorium\, 32 Wilson Rd North\, Oshawa\, Ontario\, L1G 6C8\, Canada
ATTACH;FMTTYPE=image/jpeg:https://www.rccgbethelassembly.org/wp-content/uploads/2026/02/BIBLE-STUDY-2026-scaled.jpg
END:VEVENT
BEGIN:VEVENT
DTSTART;TZID=America/Toronto:20270203T190000
DTEND;TZID=America/Toronto:20270203T203000
DTSTAMP:20260423T104817
CREATED:20250429T060059Z
LAST-MODIFIED:20260207T204753Z
UID:10003060-1801681200-1801686600@www.rccgbethelassembly.org
SUMMARY:Bible Study
DESCRIPTION:
URL:https://www.rccgbethelassembly.org/event/bible-study/2027-02-03/
LOCATION:Church Auditorium\, 32 Wilson Rd North\, Oshawa\, Ontario\, L1G 6C8\, Canada
ATTACH;FMTTYPE=image/jpeg:https://www.rccgbethelassembly.org/wp-content/uploads/2026/02/BIBLE-STUDY-2026-scaled.jpg
END:VEVENT
BEGIN:VEVENT
DTSTART;TZID=America/Toronto:20270303T190000
DTEND;TZID=America/Toronto:20270303T203000
DTSTAMP:20260423T104817
CREATED:20250429T060059Z
LAST-MODIFIED:20260207T204753Z
UID:10003061-1804100400-1804105800@www.rccgbethelassembly.org
SUMMARY:Bible Study
DESCRIPTION:
URL:https://www.rccgbethelassembly.org/event/bible-study/2027-03-03/
LOCATION:Church Auditorium\, 32 Wilson Rd North\, Oshawa\, Ontario\, L1G 6C8\, Canada
ATTACH;FMTTYPE=image/jpeg:https://www.rccgbethelassembly.org/wp-content/uploads/2026/02/BIBLE-STUDY-2026-scaled.jpg
END:VEVENT
BEGIN:VEVENT
DTSTART;TZID=America/Toronto:20270407T190000
DTEND;TZID=America/Toronto:20270407T203000
DTSTAMP:20260423T104817
CREATED:20250429T060059Z
LAST-MODIFIED:20260207T204753Z
UID:10003062-1807124400-1807129800@www.rccgbethelassembly.org
SUMMARY:Bible Study
DESCRIPTION:
URL:https://www.rccgbethelassembly.org/event/bible-study/2027-04-07/
LOCATION:Church Auditorium\, 32 Wilson Rd North\, Oshawa\, Ontario\, L1G 6C8\, Canada
ATTACH;FMTTYPE=image/jpeg:https://www.rccgbethelassembly.org/wp-content/uploads/2026/02/BIBLE-STUDY-2026-scaled.jpg
END:VEVENT
BEGIN:VEVENT
DTSTART;TZID=America/Toronto:20270505T190000
DTEND;TZID=America/Toronto:20270505T203000
DTSTAMP:20260423T104817
CREATED:20250429T060059Z
LAST-MODIFIED:20260207T204753Z
UID:10003063-1809543600-1809549000@www.rccgbethelassembly.org
SUMMARY:Bible Study
DESCRIPTION:
URL:https://www.rccgbethelassembly.org/event/bible-study/2027-05-05/
LOCATION:Church Auditorium\, 32 Wilson Rd North\, Oshawa\, Ontario\, L1G 6C8\, Canada
ATTACH;FMTTYPE=image/jpeg:https://www.rccgbethelassembly.org/wp-content/uploads/2026/02/BIBLE-STUDY-2026-scaled.jpg
END:VEVENT
BEGIN:VEVENT
DTSTART;TZID=America/Toronto:20270602T190000
DTEND;TZID=America/Toronto:20270602T203000
DTSTAMP:20260423T104817
CREATED:20250429T060059Z
LAST-MODIFIED:20260207T204753Z
UID:10003064-1811962800-1811968200@www.rccgbethelassembly.org
SUMMARY:Bible Study
DESCRIPTION:
URL:https://www.rccgbethelassembly.org/event/bible-study/2027-06-02/
LOCATION:Church Auditorium\, 32 Wilson Rd North\, Oshawa\, Ontario\, L1G 6C8\, Canada
ATTACH;FMTTYPE=image/jpeg:https://www.rccgbethelassembly.org/wp-content/uploads/2026/02/BIBLE-STUDY-2026-scaled.jpg
END:VEVENT
BEGIN:VEVENT
DTSTART;TZID=America/Toronto:20270707T190000
DTEND;TZID=America/Toronto:20270707T203000
DTSTAMP:20260423T104817
CREATED:20250429T060059Z
LAST-MODIFIED:20260207T204753Z
UID:10003065-1814986800-1814992200@www.rccgbethelassembly.org
SUMMARY:Bible Study
DESCRIPTION:
URL:https://www.rccgbethelassembly.org/event/bible-study/2027-07-07/
LOCATION:Church Auditorium\, 32 Wilson Rd North\, Oshawa\, Ontario\, L1G 6C8\, Canada
ATTACH;FMTTYPE=image/jpeg:https://www.rccgbethelassembly.org/wp-content/uploads/2026/02/BIBLE-STUDY-2026-scaled.jpg
END:VEVENT
BEGIN:VEVENT
DTSTART;TZID=America/Toronto:20270804T190000
DTEND;TZID=America/Toronto:20270804T203000
DTSTAMP:20260423T104817
CREATED:20250429T060059Z
LAST-MODIFIED:20260207T204753Z
UID:10003066-1817406000-1817411400@www.rccgbethelassembly.org
SUMMARY:Bible Study
DESCRIPTION:
URL:https://www.rccgbethelassembly.org/event/bible-study/2027-08-04/
LOCATION:Church Auditorium\, 32 Wilson Rd North\, Oshawa\, Ontario\, L1G 6C8\, Canada
ATTACH;FMTTYPE=image/jpeg:https://www.rccgbethelassembly.org/wp-content/uploads/2026/02/BIBLE-STUDY-2026-scaled.jpg
END:VEVENT
BEGIN:VEVENT
DTSTART;TZID=America/Toronto:20270901T190000
DTEND;TZID=America/Toronto:20270901T203000
DTSTAMP:20260423T104817
CREATED:20250429T060059Z
LAST-MODIFIED:20260207T204753Z
UID:10003067-1819825200-1819830600@www.rccgbethelassembly.org
SUMMARY:Bible Study
DESCRIPTION:
URL:https://www.rccgbethelassembly.org/event/bible-study/2027-09-01/
LOCATION:Church Auditorium\, 32 Wilson Rd North\, Oshawa\, Ontario\, L1G 6C8\, Canada
ATTACH;FMTTYPE=image/jpeg:https://www.rccgbethelassembly.org/wp-content/uploads/2026/02/BIBLE-STUDY-2026-scaled.jpg
END:VEVENT
BEGIN:VEVENT
DTSTART;TZID=America/Toronto:20271006T190000
DTEND;TZID=America/Toronto:20271006T203000
DTSTAMP:20260423T104817
CREATED:20250429T060059Z
LAST-MODIFIED:20260207T204753Z
UID:10003068-1822849200-1822854600@www.rccgbethelassembly.org
SUMMARY:Bible Study
DESCRIPTION:
URL:https://www.rccgbethelassembly.org/event/bible-study/2027-10-06/
LOCATION:Church Auditorium\, 32 Wilson Rd North\, Oshawa\, Ontario\, L1G 6C8\, Canada
ATTACH;FMTTYPE=image/jpeg:https://www.rccgbethelassembly.org/wp-content/uploads/2026/02/BIBLE-STUDY-2026-scaled.jpg
END:VEVENT
BEGIN:VEVENT
DTSTART;TZID=America/Toronto:20271103T190000
DTEND;TZID=America/Toronto:20271103T203000
DTSTAMP:20260423T104817
CREATED:20250429T060059Z
LAST-MODIFIED:20260207T204753Z
UID:10003069-1825268400-1825273800@www.rccgbethelassembly.org
SUMMARY:Bible Study
DESCRIPTION:
URL:https://www.rccgbethelassembly.org/event/bible-study/2027-11-03/
LOCATION:Church Auditorium\, 32 Wilson Rd North\, Oshawa\, Ontario\, L1G 6C8\, Canada
ATTACH;FMTTYPE=image/jpeg:https://www.rccgbethelassembly.org/wp-content/uploads/2026/02/BIBLE-STUDY-2026-scaled.jpg
END:VEVENT
BEGIN:VEVENT
DTSTART;TZID=America/Toronto:20271201T190000
DTEND;TZID=America/Toronto:20271201T203000
DTSTAMP:20260423T104817
CREATED:20250429T060059Z
LAST-MODIFIED:20260207T204753Z
UID:10003070-1827687600-1827693000@www.rccgbethelassembly.org
SUMMARY:Bible Study
DESCRIPTION:
URL:https://www.rccgbethelassembly.org/event/bible-study/2027-12-01/
LOCATION:Church Auditorium\, 32 Wilson Rd North\, Oshawa\, Ontario\, L1G 6C8\, Canada
ATTACH;FMTTYPE=image/jpeg:https://www.rccgbethelassembly.org/wp-content/uploads/2026/02/BIBLE-STUDY-2026-scaled.jpg
END:VEVENT
END:VCALENDAR